BEGIN:VCALENDAR
VERSION:2.0
PRODID:-//Marquette Food Co-op - ECPv6.11.2//NONSGML v1.0//EN
CALSCALE:GREGORIAN
METHOD:PUBLISH
X-ORIGINAL-URL:https://marquettefood.coop
X-WR-CALDESC:Events for Marquette Food Co-op
REFRESH-INTERVAL;VALUE=DURATION:PT1H
X-Robots-Tag:noindex
X-PUBLISHED-TTL:PT1H
BEGIN:VTIMEZONE
TZID:UTC
BEGIN:STANDARD
TZOFFSETFROM:+0000
TZOFFSETTO:+0000
TZNAME:UTC
DTSTART:20240101T000000
END:STANDARD
END:VTIMEZONE
BEGIN:VEVENT
DTSTART;VALUE=DATE:20240207
DTEND;VALUE=DATE:20240214
DTSTAMP:20260423T084152
CREATED:20240205T211645Z
LAST-MODIFIED:20240205T211645Z
UID:13000-1707264000-1707868799@marquettefood.coop
SUMMARY:Game Day & Valentine's Day Sale
DESCRIPTION:Find favorite items for the big game and the holiday on sale at the MFC. Click the link to see the items on sale\, sales flyers are updated every Wednesday.
URL:https://marquettefood.coop/event/game-day-valentines-day-sale/
LOCATION:Marquette Food Co-op\, 502 W. Washington\, Marquette\, MI\, 49855\, United States
CATEGORIES:Sale
END:VEVENT
BEGIN:VEVENT
DTSTART;TZID=UTC:20240209T100000
DTEND;TZID=UTC:20240209T103000
DTSTAMP:20260423T084152
CREATED:20240205T210230Z
LAST-MODIFIED:20240205T210230Z
UID:12990-1707472800-1707474600@marquettefood.coop
SUMMARY:Paczki Arrive!
DESCRIPTION:Paczki\, the Polish donut traditionally eaten before the start of Lent\, will be available on February 9. Available only as supply lasts so get them before they are gone!
URL:https://marquettefood.coop/event/paczki-arrive/
LOCATION:Marquette Food Co-op\, 502 W. Washington\, Marquette\, MI\, 49855\, United States
CATEGORIES:Sale
END:VEVENT
END:VCALENDAR