BEGIN:VCALENDAR
VERSION:2.0
PRODID:-//Marquette Food Co-op - ECPv6.11.2//NONSGML v1.0//EN
CALSCALE:GREGORIAN
METHOD:PUBLISH
X-ORIGINAL-URL:https://marquettefood.coop
X-WR-CALDESC:Events for Marquette Food Co-op
REFRESH-INTERVAL;VALUE=DURATION:PT1H
X-Robots-Tag:noindex
X-PUBLISHED-TTL:PT1H
BEGIN:VTIMEZONE
TZID:UTC
BEGIN:STANDARD
TZOFFSETFROM:+0000
TZOFFSETTO:+0000
TZNAME:UTC
DTSTART:20240101T000000
END:STANDARD
END:VTIMEZONE
BEGIN:VEVENT
DTSTART;VALUE=DATE:20240501
DTEND;VALUE=DATE:20240522
DTSTAMP:20260423T040921
CREATED:20240508T170933Z
LAST-MODIFIED:20240508T170933Z
UID:13263-1714521600-1716335999@marquettefood.coop
SUMMARY:Riojana Sale
DESCRIPTION:The Marquette Food Co-op will be selling all Riojana wines for $1 off from May 1 – 21! \nLa Riojana not only acts as one of Argentina’s largest co-ops\, but it is also Argentina’s third largest wine exporter by volume. The winery manages to do this while remaining carbon neutral and Fairtrade certified. \nPick up a bottle or two while the sale lasts!
URL:https://marquettefood.coop/event/riojana-sale/
LOCATION:Marquette Food Co-op\, 502 W. Washington\, Marquette\, MI\, 49855\, United States
CATEGORIES:Sale
END:VEVENT
END:VCALENDAR