BEGIN:VCALENDAR
VERSION:2.0
PRODID:-//Marquette Food Co-op - ECPv6.11.2//NONSGML v1.0//EN
CALSCALE:GREGORIAN
METHOD:PUBLISH
X-ORIGINAL-URL:https://marquettefood.coop
X-WR-CALDESC:Events for Marquette Food Co-op
REFRESH-INTERVAL;VALUE=DURATION:PT1H
X-Robots-Tag:noindex
X-PUBLISHED-TTL:PT1H
BEGIN:VTIMEZONE
TZID:UTC
BEGIN:STANDARD
TZOFFSETFROM:+0000
TZOFFSETTO:+0000
TZNAME:UTC
DTSTART:20240101T000000
END:STANDARD
END:VTIMEZONE
BEGIN:VEVENT
DTSTART;VALUE=DATE:20240601
DTEND;VALUE=DATE:20240701
DTSTAMP:20260423T023540
CREATED:20240605T161737Z
LAST-MODIFIED:20240605T161737Z
UID:13343-1717200000-1719791999@marquettefood.coop
SUMMARY:Pranarom Sale
DESCRIPTION:Through all of June\, Pranarom hydrofoils and virgin plant oils are all 20% off!\n\nPranarom’s hydrosols\, or floral waters\, and plant oils are entirely organic\, providing fresh\, clean skincare while protecting the environment. Their mixtures provide a number of benefits\, from repairing damaged skin to helping tone and tighten the face.
URL:https://marquettefood.coop/event/pranarom-sale/
LOCATION:Marquette Food Co-op\, 502 W. Washington\, Marquette\, MI\, 49855\, United States
CATEGORIES:Sale
END:VEVENT
BEGIN:VEVENT
DTSTART;VALUE=DATE:20240605
DTEND;VALUE=DATE:20240619
DTSTAMP:20260423T023540
CREATED:20240605T164503Z
LAST-MODIFIED:20240605T164503Z
UID:13346-1717545600-1718755199@marquettefood.coop
SUMMARY:Rosé Sale
DESCRIPTION:Take a sip of summer during our Rosé Sale! \nSelect rosé are $2 off each bottle from June 5 – 18. Rosé is known as a “food wine\,” meaning it pairs well with meals as opposed to before or after. We’ll have signs in the store with some of our tips on excellent pairings so you can have the best dining experience. \nTry a bottle or two while the sale is on!
URL:https://marquettefood.coop/event/rose-sale/
LOCATION:Marquette Food Co-op\, 502 W. Washington\, Marquette\, MI\, 49855\, United States
CATEGORIES:Sale
END:VEVENT
END:VCALENDAR