BEGIN:VCALENDAR
VERSION:2.0
PRODID:-//Marquette Food Co-op - ECPv6.11.2//NONSGML v1.0//EN
CALSCALE:GREGORIAN
METHOD:PUBLISH
X-WR-CALNAME:Marquette Food Co-op
X-ORIGINAL-URL:https://marquettefood.coop
X-WR-CALDESC:Events for Marquette Food Co-op
REFRESH-INTERVAL;VALUE=DURATION:PT1H
X-Robots-Tag:noindex
X-PUBLISHED-TTL:PT1H
BEGIN:VTIMEZONE
TZID:UTC
BEGIN:STANDARD
TZOFFSETFROM:+0000
TZOFFSETTO:+0000
TZNAME:UTC
DTSTART:20240101T000000
END:STANDARD
END:VTIMEZONE
BEGIN:VEVENT
DTSTART;VALUE=DATE:20240417
DTEND;VALUE=DATE:20240501
DTSTAMP:20260421T232755
CREATED:20240404T145052Z
LAST-MODIFIED:20240404T173258Z
UID:13213-1713312000-1714521599@marquettefood.coop
SUMMARY:Mix & Match Wine Sale
DESCRIPTION:As we observe Earth Day this month\, the Marquette Food Co-op will be offering a Mix and Match Wine Sale highlighting wineries that practice sustainability. \nThe Co-op has selected wines which are all made sustainably\, some organic and Fairtrade as well.  Their wineries serve as strong examples of how we can cooperate with our earth and still provide excellent products. \nThese specific wines are Buy 2\, Save 15% on both bottles! The sale lasts from April 17 – 30.
URL:https://marquettefood.coop/event/wine-sale/
LOCATION:Marquette Food Co-op\, 502 W. Washington\, Marquette\, MI\, 49855\, United States
CATEGORIES:Sale
END:VEVENT
BEGIN:VEVENT
DTSTART;VALUE=DATE:20240417
DTEND;VALUE=DATE:20240501
DTSTAMP:20260421T232755
CREATED:20240403T192534Z
LAST-MODIFIED:20240403T192534Z
UID:13204-1713312000-1714521599@marquettefood.coop
SUMMARY:Wellness BOGO
DESCRIPTION:The Marquette Food Co-op is having a Buy One\, Get One free sale on select Wellness items! \nSwing by our Wellness Department between April 17 – 30 to save on quality health and body care items.
URL:https://marquettefood.coop/event/wellness-bogo/
LOCATION:Marquette Food Co-op\, 502 W. Washington\, Marquette\, MI\, 49855\, United States
CATEGORIES:Sale
END:VEVENT
BEGIN:VEVENT
DTSTART;VALUE=DATE:20240417
DTEND;VALUE=DATE:20240424
DTSTAMP:20260421T232755
CREATED:20240404T122816Z
LAST-MODIFIED:20240404T122816Z
UID:13191-1713312000-1713916799@marquettefood.coop
SUMMARY:Bulk Sale
DESCRIPTION:Stock up on blueberry granola\, basmati rice\, chia seeds\, and other best selling bulk items during our Bulk Sale! \nSelect bulk items will be 25% off per pound from April 17 – 23.
URL:https://marquettefood.coop/event/bulk-sale-3/
LOCATION:Marquette Food Co-op\, 502 W. Washington\, Marquette\, MI\, 49855\, United States
CATEGORIES:Sale
END:VEVENT
BEGIN:VEVENT
DTSTART;VALUE=DATE:20240403
DTEND;VALUE=DATE:20240417
DTSTAMP:20260421T232755
CREATED:20240404T121205Z
LAST-MODIFIED:20240404T121205Z
UID:13168-1712102400-1713311999@marquettefood.coop
SUMMARY:Wild Fermentation Celebration
DESCRIPTION:From April 3 – 16\, the Marquette Food Co-op will be celebrating the art of wild fermentation through an exciting promotional sale of select wild fermented beers\, wines\, and other beverages. \nSwing by the Co-op and see what all we have on sale. Or\, give our newsletter a look.
URL:https://marquettefood.coop/event/wild-fermentation-celebration/
LOCATION:Marquette Food Co-op\, 502 W. Washington\, Marquette\, MI\, 49855\, United States
CATEGORIES:Events,Sale
END:VEVENT
BEGIN:VEVENT
DTSTART;VALUE=DATE:20240401
DTEND;VALUE=DATE:20240501
DTSTAMP:20260421T232755
CREATED:20240401T152049Z
LAST-MODIFIED:20240401T152049Z
UID:13172-1711929600-1714521599@marquettefood.coop
SUMMARY:Fat and the Moon Products on Sale!
DESCRIPTION:There’s definitely something magic about it. Fat and the Moon’s coven of herbalists make all of their body care and cosmetics are made in small batches\, using sustainable\, natural ingredients. Their line of self-care and self-love products includes eye coal\, lip tint\, shampoo\, deodorant\, baby care\, and more! \nWe’re excited to carry this diverse collection of products! To spread the joy of Fat and the Moon\, we’re offering 20% off on all Fat and the Moon products throughout April.
URL:https://marquettefood.coop/event/fat-and-the-moon-products-on-sale/
LOCATION:Marquette Food Co-op\, 502 W. Washington\, Marquette\, MI\, 49855\, United States
CATEGORIES:Sale
END:VEVENT
BEGIN:VEVENT
DTSTART;TZID=UTC:20240209T100000
DTEND;TZID=UTC:20240209T103000
DTSTAMP:20260421T232755
CREATED:20240205T210230Z
LAST-MODIFIED:20240205T210230Z
UID:12990-1707472800-1707474600@marquettefood.coop
SUMMARY:Paczki Arrive!
DESCRIPTION:Paczki\, the Polish donut traditionally eaten before the start of Lent\, will be available on February 9. Available only as supply lasts so get them before they are gone!
URL:https://marquettefood.coop/event/paczki-arrive/
LOCATION:Marquette Food Co-op\, 502 W. Washington\, Marquette\, MI\, 49855\, United States
CATEGORIES:Sale
END:VEVENT
BEGIN:VEVENT
DTSTART;VALUE=DATE:20240207
DTEND;VALUE=DATE:20240214
DTSTAMP:20260421T232755
CREATED:20240205T211645Z
LAST-MODIFIED:20240205T211645Z
UID:13000-1707264000-1707868799@marquettefood.coop
SUMMARY:Game Day & Valentine's Day Sale
DESCRIPTION:Find favorite items for the big game and the holiday on sale at the MFC. Click the link to see the items on sale\, sales flyers are updated every Wednesday.
URL:https://marquettefood.coop/event/game-day-valentines-day-sale/
LOCATION:Marquette Food Co-op\, 502 W. Washington\, Marquette\, MI\, 49855\, United States
CATEGORIES:Sale
END:VEVENT
BEGIN:VEVENT
DTSTART;TZID=UTC:20240117T080000
DTEND;TZID=UTC:20240123T210000
DTSTAMP:20260421T232755
CREATED:20240102T165546Z
LAST-MODIFIED:20240102T165546Z
UID:12842-1705478400-1706043600@marquettefood.coop
SUMMARY:Citrus Spree
DESCRIPTION:Enjoy 25% off all citrus in the store. Check out the January 17- 23 Fresh Deals sales flyer for other citrus inspired sales.
URL:https://marquettefood.coop/event/citrus-spree-2/
LOCATION:Marquette Food Co-op\, 502 W. Washington\, Marquette\, MI\, 49855\, United States
CATEGORIES:Sale
END:VEVENT
BEGIN:VEVENT
DTSTART;TZID=UTC:20240105T080000
DTEND;TZID=UTC:20240107T210000
DTSTAMP:20260421T232755
CREATED:20240102T165317Z
LAST-MODIFIED:20240102T165317Z
UID:12840-1704441600-1704661200@marquettefood.coop
SUMMARY:Wellness Weekend
DESCRIPTION:Save 25% on all vitamins\, supplements\, and body care items. In addition to the sale there will be sampling\, guest vendors\, and raffles of wellness items. Excludes items already on sale.
URL:https://marquettefood.coop/event/wellness-weekend-10/
LOCATION:Marquette Food Co-op\, 502 W. Washington\, Marquette\, MI\, 49855\, United States
CATEGORIES:Sale
END:VEVENT
END:VCALENDAR