BEGIN:VCALENDAR
VERSION:2.0
PRODID:-//Marquette Food Co-op - ECPv6.11.2//NONSGML v1.0//EN
CALSCALE:GREGORIAN
METHOD:PUBLISH
X-WR-CALNAME:Marquette Food Co-op
X-ORIGINAL-URL:https://marquettefood.coop
X-WR-CALDESC:Events for Marquette Food Co-op
REFRESH-INTERVAL;VALUE=DURATION:PT1H
X-Robots-Tag:noindex
X-PUBLISHED-TTL:PT1H
BEGIN:VTIMEZONE
TZID:UTC
BEGIN:STANDARD
TZOFFSETFROM:+0000
TZOFFSETTO:+0000
TZNAME:UTC
DTSTART:20240101T000000
END:STANDARD
END:VTIMEZONE
BEGIN:VEVENT
DTSTART;VALUE=DATE:20241002
DTEND;VALUE=DATE:20241005
DTSTAMP:20260424T074522
CREATED:20241009T123722Z
LAST-MODIFIED:20241009T123722Z
UID:13797-1727827200-1728086399@marquettefood.coop
SUMMARY:Rosh Hashanah
DESCRIPTION:
URL:https://marquettefood.coop/event/rosh-hashanah/
CATEGORIES:Events,Holiday
END:VEVENT
BEGIN:VEVENT
DTSTART;TZID=UTC:20241001T173000
DTEND;TZID=UTC:20241001T200000
DTSTAMP:20260424T074522
CREATED:20240906T174724Z
LAST-MODIFIED:20241007T150624Z
UID:13620-1727803800-1727812800@marquettefood.coop
SUMMARY:MFC Culinary Class - Savoring São Paulo
DESCRIPTION:Interested in the secrets of Brazilian cuisine? Giuseppe\, a passionate NMU student from the São Paulo region of southeastern Brazil\, is here to teach you how to cook some of his most cherished Brazilian dishes. \nGiuseppe first learned the art of cooking from his mother. Missing the flavors of home\, he worked to perfect his favorite recipes and is excited to share them with you! \nIn this class\, you’ll dive into the rich and diverse history of Brazilian cuisine\, a style of cooking influenced by Italian and Lebanese traditions. Giuseppe will guide you through making iconic dishes such as Feijoada\, a hearty black bean stew; Arroz de Carreteiro\, a savory rice cooked with bacon\, sausage\, and dried beef; and Brigadeirão\, a delectable chocolate flan. \nDon’t miss this opportunity to bring a taste of Brazil into your kitchen! \nHands On \nGluten Free \n$35 for Co-op owners\, $50 for General Admission \nOwner price is only available to owners. Owners who purchase tickets on behalf of non-owners must pay the general admission price for that ticket. The owner price is a benefit for Co-op owners. \nPrepayment is required to reserve a space in this class.   A minimum of six people will be required to have the class. Please feel free to contact Amanda at 225-0671 ext. 727 before you register if you have questions about the menu.
URL:https://marquettefood.coop/event/mfc-culinary-class-savoring-sao-paulo/
LOCATION:Marquette Food Co-op\, 502 W. Washington\, Marquette\, MI\, 49855\, United States
CATEGORIES:Cooking Class,Events
END:VEVENT
BEGIN:VEVENT
DTSTART;VALUE=DATE:20241001
DTEND;VALUE=DATE:20241101
DTSTAMP:20260424T074522
CREATED:20241003T174524Z
LAST-MODIFIED:20241003T174524Z
UID:13758-1727740800-1730419199@marquettefood.coop
SUMMARY:Co-op Month
DESCRIPTION:Each October\, National Co-op Month celebrates the many ways cooperatives create shared prosperity for their owners and their communities. Along with celebrating Co-op Month\, this year\, we are commemorating our 10 year anniversary at our 502 W. Washington location! \nWe have special offers and events this month to thank everyone who has supported the Co-op as a shopper\, owner\, employee\, or board member. Thank you for supporting your community-owned grocery store for 53 years!
URL:https://marquettefood.coop/event/co-op-month/
LOCATION:Marquette Food Co-op\, 502 W. Washington\, Marquette\, MI\, 49855\, United States
CATEGORIES:Events,Local Event
END:VEVENT
BEGIN:VEVENT
DTSTART;VALUE=DATE:20240927
DTEND;VALUE=DATE:20240930
DTSTAMP:20260424T074522
CREATED:20240912T205314Z
LAST-MODIFIED:20240912T205314Z
UID:13668-1727395200-1727654399@marquettefood.coop
SUMMARY:Wellness Weekend
DESCRIPTION:This weekend\, all of our Wellness items–body care\, vitamins\, supplements–are 25% off.
URL:https://marquettefood.coop/event/wellness-weekend-11/
LOCATION:Marquette Food Co-op\, 502 W. Washington\, Marquette\, MI\, 49855\, United States
CATEGORIES:Sale
END:VEVENT
BEGIN:VEVENT
DTSTART;VALUE=DATE:20240927
DTEND;VALUE=DATE:20240929
DTSTAMP:20260424T074522
CREATED:20240912T205940Z
LAST-MODIFIED:20240912T210004Z
UID:13670-1727395200-1727567999@marquettefood.coop
SUMMARY:Lake Superior Shore Run
DESCRIPTION:
URL:https://marquettefood.coop/event/lake-superior-shore-run/
CATEGORIES:Events,Local Event
END:VEVENT
BEGIN:VEVENT
DTSTART;TZID=UTC:20240924T173000
DTEND;TZID=UTC:20240924T200000
DTSTAMP:20260424T074522
CREATED:20240906T180229Z
LAST-MODIFIED:20241007T150644Z
UID:13636-1727199000-1727208000@marquettefood.coop
SUMMARY:MFC Culinary Class - Wiisinida: Let's Eat
DESCRIPTION:Join us for an enriching culinary and cultural experience as we explore the Indigenous foods of the Great Lakes. We’ll be discovering the innovations of traditional foods and teas influenced by the Decolonizing Diet Project\, The Sioux Chef\, and Wahpepah’s Kitchen. \nMFC Educators\, Amanda and Pamela\, will present techniques for cooking manoomin going beyond salad and casseroles. As you cook\, you’ll gain insights into the stories and traditions associated with each ingredient. This class is perfect for anyone interested in expanding their culinary repertoire while learning about the rich tapestry of Indigenous food traditions. \nHands On \nGluten Free \n$35 for Co-op owners\, $50 for General Admission \nOwner price is only available to owners. Owners who purchase tickets on behalf of non-owners must pay the general admission price for that ticket. The owner price is a benefit for Co-op owners. \nPrepayment is required to reserve a space in this class.   A minimum of six people will be required to have the class. Please feel free to contact Amanda at 225-0671 ext. 727 before you register if you have questions about the menu.
URL:https://marquettefood.coop/event/mfc-culinary-class-wiisinida-lets-eat/
LOCATION:Marquette Food Co-op\, 502 W. Washington\, Marquette\, MI\, 49855\, United States
CATEGORIES:Cooking Class,Events
END:VEVENT
BEGIN:VEVENT
DTSTART;VALUE=DATE:20240922
DTEND;VALUE=DATE:20240923
DTSTAMP:20260424T074522
CREATED:20240912T203312Z
LAST-MODIFIED:20240912T203312Z
UID:13666-1726963200-1727049599@marquettefood.coop
SUMMARY:Return to Winter Hours
DESCRIPTION:The Marquette Food Co-op will close at 9pm daily beginning September 22.
URL:https://marquettefood.coop/event/return-to-winter-hours/
CATEGORIES:Events
END:VEVENT
BEGIN:VEVENT
DTSTART;TZID=UTC:20240919T163000
DTEND;TZID=UTC:20240919T183000
DTSTAMP:20260424T074522
CREATED:20240906T174317Z
LAST-MODIFIED:20241007T150703Z
UID:13618-1726763400-1726770600@marquettefood.coop
SUMMARY:MFC Culinary Class - Kids Cook: Falafel!
DESCRIPTION:Calling all young chefs\, ages 11-14! Join us for a delicious and fun-filled cooking class where you’ll dive into the vibrant world of Middle Eastern cuisine. \nIn just 2 hours\, you’ll learn the secrets to making crispy\, flavorful falafel from scratch\, using as many local ingredients as possible. Prepare to practice essential cooking skills\, including chopping\, mixing\, and frying in a safe and supportive environment. Afterwards\, enjoy the fruits of your labor as we taste test our creations together! \nHands On \nGluten Free option \nVegetarian \n$20 for Co-op owners\, $25 for General Admission \nOwner price is only available to owners. Owners who purchase tickets on behalf of non-owners must pay the general admission price for that ticket. The owner price is a benefit for Co-op owners. \nPrepayment is required to reserve a space in this class.   A minimum of six people will be required to have the class. Please feel free to contact Amanda at 225-0671 ext. 727 before you register if you have questions about the menu.
URL:https://marquettefood.coop/event/mfc-culinary-class-kids-cook-falafel/
LOCATION:Marquette Food Co-op\, 502 W. Washington\, Marquette\, MI\, 49855\, United States
CATEGORIES:Cooking Class,Events
END:VEVENT
BEGIN:VEVENT
DTSTART;VALUE=DATE:20240914
DTEND;VALUE=DATE:20240916
DTSTAMP:20260424T074522
CREATED:20240912T202249Z
LAST-MODIFIED:20240912T202249Z
UID:13664-1726272000-1726444799@marquettefood.coop
SUMMARY:Mawlid-al-Nabi
DESCRIPTION:Mawlid-al-Nabi commemorates the Prophet Muhammad’s birth. Through feasts\, prayer\, and festivals\, many across the world celebrate the holiday with their families and communities.
URL:https://marquettefood.coop/event/mawlid-al-nabi/
CATEGORIES:Holiday
END:VEVENT
BEGIN:VEVENT
DTSTART;VALUE=DATE:20240911
DTEND;VALUE=DATE:20240918
DTSTAMP:20260424T074522
CREATED:20240912T193714Z
LAST-MODIFIED:20240912T193714Z
UID:13660-1726012800-1726617599@marquettefood.coop
SUMMARY:Bulk Sale
DESCRIPTION:Our fan-favorite bulk items are on sale again from September 11 – 17!\n\n\n\nGet 25% off per pound on items like Black Chia Seeds\, Blueberry Flax Granola\, White Jasmine Rice\, and more! Bring your own container if you’d like\, and stock up for fall.
URL:https://marquettefood.coop/event/bulk-sale-september-2024/
LOCATION:Marquette Food Co-op\, 502 W. Washington\, Marquette\, MI\, 49855\, United States
CATEGORIES:Sale
END:VEVENT
BEGIN:VEVENT
DTSTART;VALUE=DATE:20240907
DTEND;VALUE=DATE:20240908
DTSTAMP:20260424T074522
CREATED:20240912T195140Z
LAST-MODIFIED:20240912T195140Z
UID:13662-1725667200-1725753599@marquettefood.coop
SUMMARY:Beerfest
DESCRIPTION:
URL:https://marquettefood.coop/event/beerfest/
LOCATION:Elmwood Mattson Lower Harbor Park\, 200 N Lakewood Blvd\, Marquette\, MI\, 49855\, United States
CATEGORIES:Events,Local Event
END:VEVENT
BEGIN:VEVENT
DTSTART;VALUE=DATE:20240906
DTEND;VALUE=DATE:20240907
DTSTAMP:20260424T074522
CREATED:20240912T135210Z
LAST-MODIFIED:20240912T135210Z
UID:13652-1725580800-1725667199@marquettefood.coop
SUMMARY:906 Day
DESCRIPTION:Proud to be a Yooper? Today’s the day to show it! \nNamed after the area code only found in the Upper Peninsula\, 906 Day is a unique holiday celebrating everything that makes the U.P. special.
URL:https://marquettefood.coop/event/906-day/
CATEGORIES:Holiday
END:VEVENT
BEGIN:VEVENT
DTSTART;VALUE=DATE:20240902
DTEND;VALUE=DATE:20240903
DTSTAMP:20260424T074522
CREATED:20240806T125820Z
LAST-MODIFIED:20240806T125820Z
UID:13534-1725235200-1725321599@marquettefood.coop
SUMMARY:Labor Day
DESCRIPTION:Happy Labor Day from the Marquette Food Co-op! \nIn observance today\, the Co-op will be closed. We will be back in action September 3!
URL:https://marquettefood.coop/event/labor-day-2024/
CATEGORIES:Events,Holiday
END:VEVENT
BEGIN:VEVENT
DTSTART;VALUE=DATE:20240901
DTEND;VALUE=DATE:20241001
DTSTAMP:20260424T074522
CREATED:20240912T191347Z
LAST-MODIFIED:20240912T191502Z
UID:13656-1725148800-1727740799@marquettefood.coop
SUMMARY:Emerald Labs Vitamins & Supplements Sale
DESCRIPTION:Emerald Labs vitamins and supplements are all 20% off throughout September! \nEmerald Labs offers a long list of products that address a number of personal health and general wellness needs\, from allergies to digestion to thyroid to 45+ multivitamins. All of their products are additive-free\, containing no chemical additives.
URL:https://marquettefood.coop/event/emerald-labs-vitamins-supplements-sale/
LOCATION:Marquette Food Co-op\, 502 W. Washington\, Marquette\, MI\, 49855\, United States
CATEGORIES:Sale
END:VEVENT
BEGIN:VEVENT
DTSTART;VALUE=DATE:20240901
DTEND;VALUE=DATE:20241001
DTSTAMP:20260424T074522
CREATED:20240912T191053Z
LAST-MODIFIED:20240912T191053Z
UID:13515-1725148800-1727740799@marquettefood.coop
SUMMARY:Supérieur Electrolytes Line Drive
DESCRIPTION:Superieur Electrolytes products are 20% off throughout September! \nSuperieur Electrolytes stand out from other electrolyte products due to their unique plant extract and sea mineral blend. Their pinch of pink Himalayan seasalt brings in over 80 naturally occurring minerals. Bonding with ionic sea minerals and acerola berry extracts\, there’s a great mix of Vitamin C and magnesium in each serving. \nFind your favorite flavor from their wide array of products while we have them all on sale!
URL:https://marquettefood.coop/event/superieur-electrolytes-line-drive/
LOCATION:Marquette Food Co-op\, 502 W. Washington\, Marquette\, MI\, 49855\, United States
CATEGORIES:Sale
END:VEVENT
BEGIN:VEVENT
DTSTART;VALUE=DATE:20240831
DTEND;VALUE=DATE:20240911
DTSTAMP:20260424T074522
CREATED:20240912T134606Z
LAST-MODIFIED:20240912T134606Z
UID:13648-1725062400-1726012799@marquettefood.coop
SUMMARY:Paryushana
DESCRIPTION:Paryushana is one of the most important Jain religious observances of the year. Lasting eight to ten days\, the observance focuses on study and fasting\, often engaging with one’s community.
URL:https://marquettefood.coop/event/paryushana/
CATEGORIES:Holiday
END:VEVENT
BEGIN:VEVENT
DTSTART;VALUE=DATE:20240830
DTEND;VALUE=DATE:20240902
DTSTAMP:20260424T074522
CREATED:20240806T182844Z
LAST-MODIFIED:20240806T182844Z
UID:13546-1724976000-1725235199@marquettefood.coop
SUMMARY:Blues Fest
DESCRIPTION:It’s time for the 20th Annual Marquette Area Blues Fest this Aug. 30 to Sept. 1! \nThe Marquette Area Blues Society began in 2003 when Terry Klavitter\, April Lindala\, and Walt Lindala asked\, “Why doesn’t this town have a blues festival?” Since then\, the organization has grown to 120 paid members and a festival that has become a U.P. phenomenon. \nThis year’s Marquette Area Blues Festival marks the end of its long run\, so don’t miss out. If you’re interested in it\, don’t miss out on getting tickets!
URL:https://marquettefood.coop/event/blues-fest/
LOCATION:Elmwood Mattson Lower Harbor Park\, 200 N Lakewood Blvd\, Marquette\, MI\, 49855\, United States
CATEGORIES:Events,Local Event
END:VEVENT
BEGIN:VEVENT
DTSTART;VALUE=DATE:20240830
DTEND;VALUE=DATE:20240901
DTSTAMP:20260424T074522
CREATED:20240806T173543Z
LAST-MODIFIED:20240806T173543Z
UID:13544-1724976000-1725148799@marquettefood.coop
SUMMARY:Marquette Marathon
DESCRIPTION:This year’s Marquette Marathon\, Half Marathon\, and Wildcat 5K will be held Aug. 31\, with the Race EXPO and Kids Run on Aug. 30! \nThe Marquette Marathon has been running for over 50 years\, offering racers the opportunity to journey through the unique beauty of Marquette County. This historic race is also the fastest marathon in Michigan and the 28th fastest in the United States. \nLearn more about the Marquette Marathon by visiting their website. Keep an eye out for runners on Aug. 31!
URL:https://marquettefood.coop/event/marquette-marathon/
END:VEVENT
BEGIN:VEVENT
DTSTART;TZID=UTC:20240826T110000
DTEND;TZID=UTC:20240826T150000
DTSTAMP:20260424T074522
CREATED:20240806T162151Z
LAST-MODIFIED:20240806T162151Z
UID:13539-1724670000-1724684400@marquettefood.coop
SUMMARY:NMU Fall Fest
DESCRIPTION:NMU celebrates Fall Fest Aug. 26 from 11 a.m. – 3 p.m.! \nThis event gathers students together to enjoy a day of community\, connection\, food\, and fun on the Northern Center Lawn. Students can meet with different organizations to learn about opportunities to connect with organizations in their community. \nVisit NMU’s site to learn more about this year’s Fall Fest!
URL:https://marquettefood.coop/event/nmu-fall-fest/
LOCATION:Northern Michigan University
END:VEVENT
BEGIN:VEVENT
DTSTART;VALUE=DATE:20240826
DTEND;VALUE=DATE:20240827
DTSTAMP:20260424T074522
CREATED:20240806T190259Z
LAST-MODIFIED:20240806T190259Z
UID:13551-1724630400-1724716799@marquettefood.coop
SUMMARY:Janmashtami
DESCRIPTION:Celebrating the birth of Krishna\, the eight incarnation of the god Vishnu\, Janmashtami acts as one of the largest Hindu festivals.
URL:https://marquettefood.coop/event/janmashtami/
CATEGORIES:Events,Holiday
END:VEVENT
BEGIN:VEVENT
DTSTART;VALUE=DATE:20240821
DTEND;VALUE=DATE:20240904
DTSTAMP:20260424T074522
CREATED:20240806T143634Z
LAST-MODIFIED:20240806T143634Z
UID:13536-1724198400-1725407999@marquettefood.coop
SUMMARY:Back to School BOGO
DESCRIPTION:Back to School time doesn’t have to be a hassle. Well\, at least not when you’ve got the Marquette Food Co-op. \nWe’ve got Buy One; Get One deals in-store from Aug. 21 to Sept. 3 on a wide range of items. Crank out PB&Js no problem with BOGO Crofter’s Organic Fruit Spread and Once Again Organic Peanut Butter. Preserve Toothbrushes\, Weleda Toothpaste\, Herban Cowboy Stick Deodorant–we’ve got BOGOs on the essentials\, too. \nStock up for the school year ahead while we’ve got our BOGO going!
URL:https://marquettefood.coop/event/back-to-school-bogo/
LOCATION:Marquette Food Co-op\, 502 W. Washington\, Marquette\, MI\, 49855\, United States
CATEGORIES:Sale
END:VEVENT
BEGIN:VEVENT
DTSTART;VALUE=DATE:20240812
DTEND;VALUE=DATE:20240814
DTSTAMP:20260424T074522
CREATED:20240806T185238Z
LAST-MODIFIED:20240806T185238Z
UID:13549-1723420800-1723593599@marquettefood.coop
SUMMARY:Tisha B'Av
DESCRIPTION:Tisha B’Av commemorates the destruction of Solomon’s Temple and the Second Temple through prohibitions and observances.
URL:https://marquettefood.coop/event/tisha-bav/
CATEGORIES:Events,Holiday
END:VEVENT
BEGIN:VEVENT
DTSTART;TZID=UTC:20240810T080000
DTEND;TZID=UTC:20240810T170000
DTSTAMP:20260424T074522
CREATED:20240805T202549Z
LAST-MODIFIED:20240806T194046Z
UID:13530-1723276800-1723309200@marquettefood.coop
SUMMARY:Ore to Shore
DESCRIPTION:It’s the 25th Annual Ore to Shore Bike Epic! \n\nOre to Shore hosts its 25th “Mountain Bike Epic” on August 10. The competition sees several series of point-to-point bike races across the unique landscape of Marquette County. From 48 mile to 50 yard tracks\, there’s many options for racers of any skill level.\n\n\n\nScott Tuma\, the Ore to Shore race director\, says\, “We are lucky to have Lake Superior as a backdrop providing magnificent views as racers descend practically 1\,000 feet over the course of the trail.”
URL:https://marquettefood.coop/event/ore-to-shore-2/
CATEGORIES:Events,Local Event
END:VEVENT
BEGIN:VEVENT
DTSTART;VALUE=DATE:20240801
DTEND;VALUE=DATE:20240901
DTSTAMP:20260424T074522
CREATED:20240805T150603Z
LAST-MODIFIED:20240806T193106Z
UID:13528-1722470400-1725148799@marquettefood.coop
SUMMARY:Superieur Electrolytes
DESCRIPTION:Superieur Electrolytes products are 20% off throughout August! \nSuperieur Electrolytes stand out from other electrolyte products due to their unique plant extract and sea mineral blend. Their pinch of pink Himalayan seasalt brings in over 80 naturally occurring minerals. Bonding with ionic sea minerals and acerola berry extracts\, there’s a great mix of Vitamin C and magnesium in each serving. \nFind your favorite flavor from their wide array of products while we have them all on sale!
URL:https://marquettefood.coop/event/superieur-electrolytes/
LOCATION:Marquette Food Co-op\, 502 W. Washington\, Marquette\, MI\, 49855\, United States
CATEGORIES:Sale
END:VEVENT
BEGIN:VEVENT
DTSTART;VALUE=DATE:20240801
DTEND;VALUE=DATE:20240901
DTSTAMP:20260424T074522
CREATED:20240805T123929Z
LAST-MODIFIED:20240805T123929Z
UID:13526-1722470400-1725148799@marquettefood.coop
SUMMARY:Local Spotlight: Superior Culture
DESCRIPTION:Superior Culture products are all 10% off at the Marquette Food Co-op throughout August! \nSuperior Culture admires the little universes fermentation creates. The company’s kombucha\, nano-brewed beers\, Michigan ciders–their whole suite of products embodies the best of fermentation. Their flavors always change\, celebrating the best of their past\, present\, and future. \nAlex Rowland\, Superior Culture owner\, also sees their business as a celebration of Marquette. “It’s empowering to be around people who are like-minded\,” he writes\, “and there’s so much of that in Marquette. So many people are supportive of each other. People need this more than ever.”
URL:https://marquettefood.coop/event/local-spotlight-superior-culture/
LOCATION:Marquette Food Co-op\, 502 W. Washington\, Marquette\, MI\, 49855\, United States
CATEGORIES:Sale
END:VEVENT
BEGIN:VEVENT
DTSTART;VALUE=DATE:20240801
DTEND;VALUE=DATE:20240901
DTSTAMP:20260424T074522
CREATED:20240724T132658Z
LAST-MODIFIED:20240724T132658Z
UID:13513-1722470400-1725148799@marquettefood.coop
SUMMARY:Denik Line Drive
DESCRIPTION:Make a note: Denik notebooks are 15% off throughout August. \n“Art can change the world\,” Denik writes. “We were told we shouldn’t be artists. That we’d never make a living\, and we’d amount to anything. So we started Denik… to show people that art can change the world.” \nTo make that change\, Denik uses a portion of their profits to build schools in areas that lack public education. So far\, their process has produced seven schools–and counting. \nPick up one of their spectacular notebooks while it’s on sale!
URL:https://marquettefood.coop/event/denik-line-drive/
LOCATION:Marquette Food Co-op\, 502 W. Washington\, Marquette\, MI\, 49855\, United States
CATEGORIES:Sale
END:VEVENT
BEGIN:VEVENT
DTSTART;VALUE=DATE:20240801
DTEND;VALUE=DATE:20240901
DTSTAMP:20260424T074522
CREATED:20240724T130120Z
LAST-MODIFIED:20240724T130120Z
UID:13511-1722470400-1725148799@marquettefood.coop
SUMMARY:Stasher Line Drive
DESCRIPTION:Throughout August\, we’ve got Stasher products 20% off!\n\n These reusable\, food-grade silicone bags are leak-free and dishwasher-safe. Stasher’s revolutionary bags and bowls won both 2022 Good Housekeeping and 2024 Food Network Editor’s Pick for their ingenious and gorgeous designs.\n\n\n \n\n\nGrab them while you can at the Co-op and change up lunch for the better.
URL:https://marquettefood.coop/event/stasher-line-drive/
LOCATION:Marquette Food Co-op\, 502 W. Washington\, Marquette\, MI\, 49855\, United States
CATEGORIES:Sale
END:VEVENT
BEGIN:VEVENT
DTSTART;VALUE=DATE:20240701
DTEND;VALUE=DATE:20240801
DTSTAMP:20260424T074522
CREATED:20240703T153908Z
LAST-MODIFIED:20240703T153908Z
UID:13479-1719792000-1722470399@marquettefood.coop
SUMMARY:GT's Kombucha & Water Kefir Sale
DESCRIPTION:GT’s Kombucha & Water Kefir are all 20% off throughout July! \nGT’s is one of the largest commercial providers of kombucha in the world\, though it comes from a small start. Inspired by his mother’s journey with cancer\, GT desired to share the kombucha which helped her through her recovery. The recipe has since grown\, studying different forms of rejuvenation through live-culture beverages.
URL:https://marquettefood.coop/event/gts-kombucha-water-kefir-sale/
CATEGORIES:Sale
END:VEVENT
BEGIN:VEVENT
DTSTART;VALUE=DATE:20240701
DTEND;VALUE=DATE:20240801
DTSTAMP:20260424T074522
CREATED:20240703T145343Z
LAST-MODIFIED:20240703T145343Z
UID:13477-1719792000-1722470399@marquettefood.coop
SUMMARY:Round Up for Food Pantries
DESCRIPTION:This July\, we’re bringing back our Round Up at the Register program to help provide for our local pantries.\n\n\n\nFood pantries are seeing a high demand for help this summer. Inflation\, decreased federal aid\, children missing school meals–everything adds up to more need for food pantries.\n\n\n\nWhile our pantries combat increasing food insecurity\, donations tend to dwindle in summer. To help them meet their demand\, the Marquette Food Co-op will be collecting donations at checkout throughout July.\n\n\n\nCashiers will ask customers if they would like to round up their total to the nearest dollar or more. These donations will be used to purchase items specifically demanded by local food pantries. These pantries include: St. Vincent de Paul (Marquette\, Gwinn\, Ishpeming)\, The NMU Food Pantry\, and The Salvation Army (Marquette\, Ishpeming).\n\n\n\nConsider donating this month when you pay for your produce\, and help us provide for those in our community.
URL:https://marquettefood.coop/event/round-up-for-food-pantries/
CATEGORIES:Events,Special Event
END:VEVENT
BEGIN:VEVENT
DTSTART;VALUE=DATE:20240701
DTEND;VALUE=DATE:20240801
DTSTAMP:20260424T074522
CREATED:20240703T144759Z
LAST-MODIFIED:20240703T144759Z
UID:13475-1719792000-1722470399@marquettefood.coop
SUMMARY:Emerald Labs Sale
DESCRIPTION:Emerald Labs vitamins and supplements are all 20% off throughout July! \nEmerald Labs offers a long list of products that address a number of personal health and general wellness needs\, from allergies to digestion to thyroid to 45+ multivitamins. All of their products are additive-free\, containing no chemical additives.
URL:https://marquettefood.coop/event/emerald-labs-sale/
END:VEVENT
END:VCALENDAR