BEGIN:VCALENDAR
VERSION:2.0
PRODID:-//Marquette Food Co-op - ECPv6.11.2//NONSGML v1.0//EN
CALSCALE:GREGORIAN
METHOD:PUBLISH
X-ORIGINAL-URL:https://marquettefood.coop
X-WR-CALDESC:Events for Marquette Food Co-op
REFRESH-INTERVAL;VALUE=DURATION:PT1H
X-Robots-Tag:noindex
X-PUBLISHED-TTL:PT1H
BEGIN:VTIMEZONE
TZID:UTC
BEGIN:STANDARD
TZOFFSETFROM:+0000
TZOFFSETTO:+0000
TZNAME:UTC
DTSTART:20240101T000000
END:STANDARD
END:VTIMEZONE
BEGIN:VEVENT
DTSTART;VALUE=DATE:20240821
DTEND;VALUE=DATE:20240904
DTSTAMP:20260424T104443
CREATED:20240806T143634Z
LAST-MODIFIED:20240806T143634Z
UID:13536-1724198400-1725407999@marquettefood.coop
SUMMARY:Back to School BOGO
DESCRIPTION:Back to School time doesn’t have to be a hassle. Well\, at least not when you’ve got the Marquette Food Co-op. \nWe’ve got Buy One; Get One deals in-store from Aug. 21 to Sept. 3 on a wide range of items. Crank out PB&Js no problem with BOGO Crofter’s Organic Fruit Spread and Once Again Organic Peanut Butter. Preserve Toothbrushes\, Weleda Toothpaste\, Herban Cowboy Stick Deodorant–we’ve got BOGOs on the essentials\, too. \nStock up for the school year ahead while we’ve got our BOGO going!
URL:https://marquettefood.coop/event/back-to-school-bogo/
LOCATION:Marquette Food Co-op\, 502 W. Washington\, Marquette\, MI\, 49855\, United States
CATEGORIES:Sale
END:VEVENT
BEGIN:VEVENT
DTSTART;VALUE=DATE:20240812
DTEND;VALUE=DATE:20240814
DTSTAMP:20260424T104443
CREATED:20240806T185238Z
LAST-MODIFIED:20240806T185238Z
UID:13549-1723420800-1723593599@marquettefood.coop
SUMMARY:Tisha B'Av
DESCRIPTION:Tisha B’Av commemorates the destruction of Solomon’s Temple and the Second Temple through prohibitions and observances.
URL:https://marquettefood.coop/event/tisha-bav/
CATEGORIES:Events,Holiday
END:VEVENT
BEGIN:VEVENT
DTSTART;TZID=UTC:20240810T080000
DTEND;TZID=UTC:20240810T170000
DTSTAMP:20260424T104443
CREATED:20240805T202549Z
LAST-MODIFIED:20240806T194046Z
UID:13530-1723276800-1723309200@marquettefood.coop
SUMMARY:Ore to Shore
DESCRIPTION:It’s the 25th Annual Ore to Shore Bike Epic! \n\nOre to Shore hosts its 25th “Mountain Bike Epic” on August 10. The competition sees several series of point-to-point bike races across the unique landscape of Marquette County. From 48 mile to 50 yard tracks\, there’s many options for racers of any skill level.\n\n\n\nScott Tuma\, the Ore to Shore race director\, says\, “We are lucky to have Lake Superior as a backdrop providing magnificent views as racers descend practically 1\,000 feet over the course of the trail.”
URL:https://marquettefood.coop/event/ore-to-shore-2/
CATEGORIES:Events,Local Event
END:VEVENT
BEGIN:VEVENT
DTSTART;VALUE=DATE:20240801
DTEND;VALUE=DATE:20240901
DTSTAMP:20260424T104443
CREATED:20240805T150603Z
LAST-MODIFIED:20240806T193106Z
UID:13528-1722470400-1725148799@marquettefood.coop
SUMMARY:Superieur Electrolytes
DESCRIPTION:Superieur Electrolytes products are 20% off throughout August! \nSuperieur Electrolytes stand out from other electrolyte products due to their unique plant extract and sea mineral blend. Their pinch of pink Himalayan seasalt brings in over 80 naturally occurring minerals. Bonding with ionic sea minerals and acerola berry extracts\, there’s a great mix of Vitamin C and magnesium in each serving. \nFind your favorite flavor from their wide array of products while we have them all on sale!
URL:https://marquettefood.coop/event/superieur-electrolytes/
LOCATION:Marquette Food Co-op\, 502 W. Washington\, Marquette\, MI\, 49855\, United States
CATEGORIES:Sale
END:VEVENT
BEGIN:VEVENT
DTSTART;VALUE=DATE:20240801
DTEND;VALUE=DATE:20240901
DTSTAMP:20260424T104443
CREATED:20240805T123929Z
LAST-MODIFIED:20240805T123929Z
UID:13526-1722470400-1725148799@marquettefood.coop
SUMMARY:Local Spotlight: Superior Culture
DESCRIPTION:Superior Culture products are all 10% off at the Marquette Food Co-op throughout August! \nSuperior Culture admires the little universes fermentation creates. The company’s kombucha\, nano-brewed beers\, Michigan ciders–their whole suite of products embodies the best of fermentation. Their flavors always change\, celebrating the best of their past\, present\, and future. \nAlex Rowland\, Superior Culture owner\, also sees their business as a celebration of Marquette. “It’s empowering to be around people who are like-minded\,” he writes\, “and there’s so much of that in Marquette. So many people are supportive of each other. People need this more than ever.”
URL:https://marquettefood.coop/event/local-spotlight-superior-culture/
LOCATION:Marquette Food Co-op\, 502 W. Washington\, Marquette\, MI\, 49855\, United States
CATEGORIES:Sale
END:VEVENT
BEGIN:VEVENT
DTSTART;VALUE=DATE:20240801
DTEND;VALUE=DATE:20240901
DTSTAMP:20260424T104443
CREATED:20240724T132658Z
LAST-MODIFIED:20240724T132658Z
UID:13513-1722470400-1725148799@marquettefood.coop
SUMMARY:Denik Line Drive
DESCRIPTION:Make a note: Denik notebooks are 15% off throughout August. \n“Art can change the world\,” Denik writes. “We were told we shouldn’t be artists. That we’d never make a living\, and we’d amount to anything. So we started Denik… to show people that art can change the world.” \nTo make that change\, Denik uses a portion of their profits to build schools in areas that lack public education. So far\, their process has produced seven schools–and counting. \nPick up one of their spectacular notebooks while it’s on sale!
URL:https://marquettefood.coop/event/denik-line-drive/
LOCATION:Marquette Food Co-op\, 502 W. Washington\, Marquette\, MI\, 49855\, United States
CATEGORIES:Sale
END:VEVENT
BEGIN:VEVENT
DTSTART;VALUE=DATE:20240801
DTEND;VALUE=DATE:20240901
DTSTAMP:20260424T104443
CREATED:20240724T130120Z
LAST-MODIFIED:20240724T130120Z
UID:13511-1722470400-1725148799@marquettefood.coop
SUMMARY:Stasher Line Drive
DESCRIPTION:Throughout August\, we’ve got Stasher products 20% off!\n\n These reusable\, food-grade silicone bags are leak-free and dishwasher-safe. Stasher’s revolutionary bags and bowls won both 2022 Good Housekeeping and 2024 Food Network Editor’s Pick for their ingenious and gorgeous designs.\n\n\n \n\n\nGrab them while you can at the Co-op and change up lunch for the better.
URL:https://marquettefood.coop/event/stasher-line-drive/
LOCATION:Marquette Food Co-op\, 502 W. Washington\, Marquette\, MI\, 49855\, United States
CATEGORIES:Sale
END:VEVENT
BEGIN:VEVENT
DTSTART;VALUE=DATE:20240701
DTEND;VALUE=DATE:20240801
DTSTAMP:20260424T104443
CREATED:20240703T153908Z
LAST-MODIFIED:20240703T153908Z
UID:13479-1719792000-1722470399@marquettefood.coop
SUMMARY:GT's Kombucha & Water Kefir Sale
DESCRIPTION:GT’s Kombucha & Water Kefir are all 20% off throughout July! \nGT’s is one of the largest commercial providers of kombucha in the world\, though it comes from a small start. Inspired by his mother’s journey with cancer\, GT desired to share the kombucha which helped her through her recovery. The recipe has since grown\, studying different forms of rejuvenation through live-culture beverages.
URL:https://marquettefood.coop/event/gts-kombucha-water-kefir-sale/
CATEGORIES:Sale
END:VEVENT
BEGIN:VEVENT
DTSTART;VALUE=DATE:20240701
DTEND;VALUE=DATE:20240801
DTSTAMP:20260424T104443
CREATED:20240703T145343Z
LAST-MODIFIED:20240703T145343Z
UID:13477-1719792000-1722470399@marquettefood.coop
SUMMARY:Round Up for Food Pantries
DESCRIPTION:This July\, we’re bringing back our Round Up at the Register program to help provide for our local pantries.\n\n\n\nFood pantries are seeing a high demand for help this summer. Inflation\, decreased federal aid\, children missing school meals–everything adds up to more need for food pantries.\n\n\n\nWhile our pantries combat increasing food insecurity\, donations tend to dwindle in summer. To help them meet their demand\, the Marquette Food Co-op will be collecting donations at checkout throughout July.\n\n\n\nCashiers will ask customers if they would like to round up their total to the nearest dollar or more. These donations will be used to purchase items specifically demanded by local food pantries. These pantries include: St. Vincent de Paul (Marquette\, Gwinn\, Ishpeming)\, The NMU Food Pantry\, and The Salvation Army (Marquette\, Ishpeming).\n\n\n\nConsider donating this month when you pay for your produce\, and help us provide for those in our community.
URL:https://marquettefood.coop/event/round-up-for-food-pantries/
CATEGORIES:Events,Special Event
END:VEVENT
BEGIN:VEVENT
DTSTART;VALUE=DATE:20240701
DTEND;VALUE=DATE:20240801
DTSTAMP:20260424T104443
CREATED:20240703T144759Z
LAST-MODIFIED:20240703T144759Z
UID:13475-1719792000-1722470399@marquettefood.coop
SUMMARY:Emerald Labs Sale
DESCRIPTION:Emerald Labs vitamins and supplements are all 20% off throughout July! \nEmerald Labs offers a long list of products that address a number of personal health and general wellness needs\, from allergies to digestion to thyroid to 45+ multivitamins. All of their products are additive-free\, containing no chemical additives.
URL:https://marquettefood.coop/event/emerald-labs-sale/
END:VEVENT
BEGIN:VEVENT
DTSTART;VALUE=DATE:20240701
DTEND;VALUE=DATE:20240801
DTSTAMP:20260424T104443
CREATED:20240703T141648Z
LAST-MODIFIED:20240703T141648Z
UID:13473-1719792000-1722470399@marquettefood.coop
SUMMARY:Peepers Sale
DESCRIPTION:Peepers line of glasses are 15% off throughout the month of July! \nFor over a century\, Peepers has strived to create reading glasses that are not only functional but chic. Their business provides a large selection of blue-light\, UV\, readers\, and other types of glasses for everyday need. \nGrab a pair while they are on sale!
URL:https://marquettefood.coop/event/peepers-sale/
CATEGORIES:Sale
END:VEVENT
BEGIN:VEVENT
DTSTART;VALUE=DATE:20240701
DTEND;VALUE=DATE:20240801
DTSTAMP:20260424T104443
CREATED:20240703T134130Z
LAST-MODIFIED:20251001T142623Z
UID:13471-1719792000-1722470399@marquettefood.coop
SUMMARY:Yooper Sisters Local Spotlight
DESCRIPTION:For July’s Local Spotlight\, we’re sponsoring Yooper Sisters! \nYooper Sisters believes the best jam lets its fruit do the talking. And to its owner\, Amanda Sheppard\, Michigan’s fruits have a lot to say. \nSheppard and her sister started the company nearly a decade ago to produce small batch jams\, jellies\, and vanilla extract that highlight Michigan’s incredible fruit. Sheppard writes\, “[I]n its simplicity is something special\, something that reminds me personally of days spent with grandma making a sweet treat.” \nAll Yooper Sisters products are 15% this July!
URL:https://marquettefood.coop/event/yooper-sisters-local-spotlight/
LOCATION:Marquette Food Co-op\, 502 W. Washington\, Marquette\, MI\, 49855\, United States
CATEGORIES:Sale
END:VEVENT
BEGIN:VEVENT
DTSTART;VALUE=DATE:20240701
DTEND;VALUE=DATE:20240801
DTSTAMP:20260424T104443
CREATED:20240703T133411Z
LAST-MODIFIED:20240703T133411Z
UID:13469-1719792000-1722470399@marquettefood.coop
SUMMARY:Disability Pride Month
DESCRIPTION:After the passing of the American with Disabilities Act (ADA) in 1990\, Disability Pride Month started as a way to celebrate both this civil rights milestone and the unique experience of those with disabilities. \nThose with disabilities experience forms of prejudice and discrimination specific to their conditions\, whether that be wheelchair accessibility\, public transportation\, and employment opportunities. The ADA prohibits these and other forms of discrimination. \nThe month serves as an opportunity to highlight the continued need for inclusion for those living with disabilities. It also brings attention to the insights and achievements of those persons.
URL:https://marquettefood.coop/event/disability-pride-month/
CATEGORIES:Holiday
END:VEVENT
BEGIN:VEVENT
DTSTART;VALUE=DATE:20240619
DTEND;VALUE=DATE:20240620
DTSTAMP:20260424T104443
CREATED:20240605T145524Z
LAST-MODIFIED:20240605T145524Z
UID:13337-1718755200-1718841599@marquettefood.coop
SUMMARY:Juneteenth
DESCRIPTION:In the words of Angela Tate\, Curator of African American Women’s History\, for the Nation Museum of African American History and Culture: \n“Juneteenth is a time to reflect. What does it mean to really celebrate our freedom? What does it mean to be free in moments where freedom is conditional\, and freedom is always a challenge? Juneteenth is a moment to think about freedom being conditional freedom and it is something that we must continuously strive and fight for.” \nThe Marquette Food Co-op celebrates Juneteenth as an acknowledgement of the efforts and accomplishments towards African American freedom and the constant work towards achieving it.
URL:https://marquettefood.coop/event/juneteenth-2024/
CATEGORIES:Holiday
END:VEVENT
BEGIN:VEVENT
DTSTART;VALUE=DATE:20240616
DTEND;VALUE=DATE:20240620
DTSTAMP:20260424T104443
CREATED:20240605T141011Z
LAST-MODIFIED:20240605T141011Z
UID:13335-1718496000-1718841599@marquettefood.coop
SUMMARY:Eid al-Adha
DESCRIPTION:Celebrating the story of Ibrahim having the will to sacrifice his son\, Isma’il\, at the command of Allah\, Eid al-Adha (or Eid ul-Adha) commemorates the final period of Hajj in the Islamic faith.
URL:https://marquettefood.coop/event/eid-al-adha/
CATEGORIES:Holiday
END:VEVENT
BEGIN:VEVENT
DTSTART;VALUE=DATE:20240616
DTEND;VALUE=DATE:20240617
DTSTAMP:20260424T104443
CREATED:20240605T135841Z
LAST-MODIFIED:20240605T135841Z
UID:13333-1718496000-1718582399@marquettefood.coop
SUMMARY:Martyrdom of Guru Arjan Dev Sahib
DESCRIPTION:This day marks the martyrdom of Guru Arjan Dev Sahib. A major day of remembrance for the Sikhs\, the anniversary commemorates his death and the changes it brought to their faith.
URL:https://marquettefood.coop/event/martyrdom-of-guru-arjan-dev-sahib/
CATEGORIES:Holiday
END:VEVENT
BEGIN:VEVENT
DTSTART;VALUE=DATE:20240616
DTEND;VALUE=DATE:20240617
DTSTAMP:20260424T104443
CREATED:20240605T135500Z
LAST-MODIFIED:20240605T135500Z
UID:13331-1718496000-1718582399@marquettefood.coop
SUMMARY:Father's Day
DESCRIPTION:Happy Father’s Day to all the dads and fatherly figures out there!
URL:https://marquettefood.coop/event/fathers-day-2024/
CATEGORIES:Holiday
END:VEVENT
BEGIN:VEVENT
DTSTART;VALUE=DATE:20240614
DTEND;VALUE=DATE:20240620
DTSTAMP:20260424T104443
CREATED:20240605T135303Z
LAST-MODIFIED:20240605T135303Z
UID:13329-1718323200-1718841599@marquettefood.coop
SUMMARY:Hajj
DESCRIPTION:One of the five pillars of Islam\, Hajj is a sacred pilgrimage performed by Muslims at the mosque\, Masjid al-Haram in Mecca\, Saudi Arabia. The pilgrimage marks a cleansing of sins and a closer connection with their god. \nHajj Mubarak to those on their pilgrimage this year!
URL:https://marquettefood.coop/event/hajj/
CATEGORIES:Holiday
END:VEVENT
BEGIN:VEVENT
DTSTART;VALUE=DATE:20240614
DTEND;VALUE=DATE:20240615
DTSTAMP:20260424T104443
CREATED:20240605T133418Z
LAST-MODIFIED:20240605T133418Z
UID:13327-1718323200-1718409599@marquettefood.coop
SUMMARY:Flag Day
DESCRIPTION:Happy Birthday to our flag! \nFlag Day marks the anniversary of the adoption of the American flag in 1777.
URL:https://marquettefood.coop/event/flag-day/
CATEGORIES:Holiday
END:VEVENT
BEGIN:VEVENT
DTSTART;VALUE=DATE:20240611
DTEND;VALUE=DATE:20240614
DTSTAMP:20260424T104443
CREATED:20240605T133211Z
LAST-MODIFIED:20240605T133211Z
UID:13325-1718064000-1718323199@marquettefood.coop
SUMMARY:Shavuot
DESCRIPTION:One of three major pilgrimage festivals\, this Jewish celebration marks the giving of the Torah on Mount Sinai. \nGut Yontiff to those who celebrate!
URL:https://marquettefood.coop/event/shavuot/
CATEGORIES:Holiday
END:VEVENT
BEGIN:VEVENT
DTSTART;TZID=UTC:20240608T130000
DTEND;TZID=UTC:20240608T223000
DTSTAMP:20260424T104443
CREATED:20240605T132035Z
LAST-MODIFIED:20240605T132035Z
UID:13316-1717851600-1717885800@marquettefood.coop
SUMMARY:Pride Fest
DESCRIPTION:U.P. Rainbow Pride is holding its annual Pride Fest June 8 from 1 – 10:30 pm! \nPride Fest will have a whole heap of food\, merch\, activities\, resources\, drag\, and even more. It’s going to be an event-filled day of queer celebration and acceptance here in the U.P.! \nRainbow Pride is still taking volunteers. If you’re interested in helping make this the best Fest\, visit their volunteer registration here: link \nPride Fest will be held at Elmwood Mattson Lower Harbor Park\, 200 N Lakeshore Blvd\, Marquette\, MI 49855.
URL:https://marquettefood.coop/event/pride-fest/
LOCATION:Elmwood Mattson Lower Harbor Park\, 200 N Lakewood Blvd\, Marquette\, MI\, 49855\, United States
CATEGORIES:Events,Local Event
END:VEVENT
BEGIN:VEVENT
DTSTART;TZID=UTC:20240605T133000
DTEND;TZID=UTC:20240605T153000
DTSTAMP:20260424T104443
CREATED:20240605T171308Z
LAST-MODIFIED:20240605T171308Z
UID:13350-1717594200-1717601400@marquettefood.coop
SUMMARY:Senior Support Series: Smart Shopping
DESCRIPTION:Culture and community have one great thing in common: the kitchen. \nMarquette County is no exception\, which is why we’re partnering with the Marquette Regional History Center to bring you “Senior Support Series: Smart Shopping”! The Co-op’s own registered dietitian\, Amanda Latvala\, will teach you how to prepare easy meals\, shop frugally\, and buy in bulk. Door Prizes will be awarded\, including four $25 Co-op gift cards! \n“Smart Shopping” will be held Wednesday\, June 5\, 1:30 – 3:30 pm at the Marquette Regional History Center. All ages are welcome\, and attendance is free! Light refreshments will be provided. \nVisit the Facebook page for more information: link.
URL:https://marquettefood.coop/event/senior-support-series-smart-shopping/
LOCATION:Marquette Regional History Center\, 145 W Spring St\, Marquette\, MI\, 49855\, United States
CATEGORIES:Cooking Class,Demonstration,Events
END:VEVENT
BEGIN:VEVENT
DTSTART;VALUE=DATE:20240605
DTEND;VALUE=DATE:20240619
DTSTAMP:20260424T104443
CREATED:20240605T164503Z
LAST-MODIFIED:20240605T164503Z
UID:13346-1717545600-1718755199@marquettefood.coop
SUMMARY:Rosé Sale
DESCRIPTION:Take a sip of summer during our Rosé Sale! \nSelect rosé are $2 off each bottle from June 5 – 18. Rosé is known as a “food wine\,” meaning it pairs well with meals as opposed to before or after. We’ll have signs in the store with some of our tips on excellent pairings so you can have the best dining experience. \nTry a bottle or two while the sale is on!
URL:https://marquettefood.coop/event/rose-sale/
LOCATION:Marquette Food Co-op\, 502 W. Washington\, Marquette\, MI\, 49855\, United States
CATEGORIES:Sale
END:VEVENT
BEGIN:VEVENT
DTSTART;TZID=UTC:20240601T110000
DTEND;TZID=UTC:20240601T140000
DTSTAMP:20260424T104443
CREATED:20240605T161201Z
LAST-MODIFIED:20240605T161201Z
UID:13340-1717239600-1717250400@marquettefood.coop
SUMMARY:Biking with Groceries
DESCRIPTION:Looking for a fuel-efficient\, eco-friendly\, heart-pumping way to get your groceries? We might have the answer.\n\nMarquette Sustainability Coalition will be teaching cargo biking tips and tricks at the Marquette Food Co-op Saturday\, June 1\, from 11 am – 2 pm. They will share resources and answer questions\, along with letting visitors test ride a groceried-up bike.\n\nAnd since it’s the Co-op\, expect snacks\, too.
URL:https://marquettefood.coop/event/biking-with-groceries/
LOCATION:Marquette Food Co-op\, 502 W. Washington\, Marquette\, MI\, 49855\, United States
CATEGORIES:Demonstration,Events,Special Event
END:VEVENT
BEGIN:VEVENT
DTSTART;VALUE=DATE:20240601
DTEND;VALUE=DATE:20240701
DTSTAMP:20260424T104443
CREATED:20240605T161737Z
LAST-MODIFIED:20240605T161737Z
UID:13343-1717200000-1719791999@marquettefood.coop
SUMMARY:Pranarom Sale
DESCRIPTION:Through all of June\, Pranarom hydrofoils and virgin plant oils are all 20% off!\n\nPranarom’s hydrosols\, or floral waters\, and plant oils are entirely organic\, providing fresh\, clean skincare while protecting the environment. Their mixtures provide a number of benefits\, from repairing damaged skin to helping tone and tighten the face.
URL:https://marquettefood.coop/event/pranarom-sale/
LOCATION:Marquette Food Co-op\, 502 W. Washington\, Marquette\, MI\, 49855\, United States
CATEGORIES:Sale
END:VEVENT
BEGIN:VEVENT
DTSTART;VALUE=DATE:20240523
DTEND;VALUE=DATE:20240524
DTSTAMP:20260424T104443
CREATED:20240508T172740Z
LAST-MODIFIED:20240508T172740Z
UID:13277-1716422400-1716508799@marquettefood.coop
SUMMARY:Vesak
DESCRIPTION:
URL:https://marquettefood.coop/event/vesak/
END:VEVENT
BEGIN:VEVENT
DTSTART;TZID=UTC:20240521T180000
DTEND;TZID=UTC:20240521T200000
DTSTAMP:20260424T104443
CREATED:20240508T171737Z
LAST-MODIFIED:20240508T171737Z
UID:13271-1716314400-1716321600@marquettefood.coop
SUMMARY:Marquette Food Co-op Board of Directors Meeting
DESCRIPTION:Our Board of Directors meets every third Tuesday of each month at 6pm in the Marquette Food Co-op downstairs classroom. \nInterested in attending this month’s Board meeting? Please contact the Board at board@marquettefood.coop first so they can have adequate materials prepare ahead of time. If you wish to attend online\, email Sarah at smonte@marquettefood.coop for a Zoom link.
URL:https://marquettefood.coop/event/marquette-food-co-op-board-of-directors-meeting/
LOCATION:Marquette Food Co-op\, 502 W. Washington\, Marquette\, MI\, 49855\, United States
CATEGORIES:Board Meeting,Events
END:VEVENT
BEGIN:VEVENT
DTSTART;VALUE=DATE:20240519
DTEND;VALUE=DATE:20240520
DTSTAMP:20260424T104443
CREATED:20240508T171517Z
LAST-MODIFIED:20240508T171517Z
UID:13269-1716076800-1716163199@marquettefood.coop
SUMMARY:Marquette Food Co-op Summer Hours Transition
DESCRIPTION:The Marquette Food Co-op will transition to its summer hours on May 19. \nThe store will be open from 8am – 10pm until fall makes its way here.
URL:https://marquettefood.coop/event/marquette-food-co-op-summer-hours-transition/
LOCATION:Marquette Food Co-op\, 502 W. Washington\, Marquette\, MI\, 49855\, United States
CATEGORIES:Events,Special Event
END:VEVENT
BEGIN:VEVENT
DTSTART;VALUE=DATE:20240512
DTEND;VALUE=DATE:20240513
DTSTAMP:20260424T104443
CREATED:20240508T171132Z
LAST-MODIFIED:20240508T171132Z
UID:13267-1715472000-1715558399@marquettefood.coop
SUMMARY:Mother's Day
DESCRIPTION:Happy Mother’s Day to all moms in our community!
URL:https://marquettefood.coop/event/mothers-day/
END:VEVENT
BEGIN:VEVENT
DTSTART;TZID=UTC:20240507T173000
DTEND;TZID=UTC:20240507T200000
DTSTAMP:20260424T104443
CREATED:20240102T164904Z
LAST-MODIFIED:20240102T164904Z
UID:12838-1715103000-1715112000@marquettefood.coop
SUMMARY:Viva Mexico!
DESCRIPTION:Chef Nathan Mileski is back in the Co-op classroom! Explore two of Mexico’s finest traditional dishes. First\, we will make chiles en nogada. This Mexican dish represents the national flag\, and is made with poblano chiles\, stuffed with picadillo\, and topped with a walnut-based cream sauce called nogada\, pomegranate seeds\, and parsley. It is widely considered a national dish of Mexico. Second\, we will explore the tamale\, and its open canvas and versatility for ingredients and salsa combinations. Gluten-free\, hands-on class.
URL:https://marquettefood.coop/event/viva-mexico-2/
LOCATION:Marquette Food Co-op\, 502 W. Washington\, Marquette\, MI\, 49855\, United States
CATEGORIES:Cooking Class
END:VEVENT
END:VCALENDAR