BEGIN:VCALENDAR
VERSION:2.0
PRODID:-//Marquette Food Co-op - ECPv6.11.2//NONSGML v1.0//EN
CALSCALE:GREGORIAN
METHOD:PUBLISH
X-WR-CALNAME:Marquette Food Co-op
X-ORIGINAL-URL:https://marquettefood.coop
X-WR-CALDESC:Events for Marquette Food Co-op
REFRESH-INTERVAL;VALUE=DURATION:PT1H
X-Robots-Tag:noindex
X-PUBLISHED-TTL:PT1H
BEGIN:VTIMEZONE
TZID:UTC
BEGIN:STANDARD
TZOFFSETFROM:+0000
TZOFFSETTO:+0000
TZNAME:UTC
DTSTART:20240101T000000
END:STANDARD
END:VTIMEZONE
BEGIN:VEVENT
DTSTART;TZID=UTC:20250408T173000
DTEND;TZID=UTC:20250408T200000
DTSTAMP:20260424T073933
CREATED:20241204T221315Z
LAST-MODIFIED:20241204T221315Z
UID:14007-1744133400-1744142400@marquettefood.coop
SUMMARY:MFC Culinary Class- South African Cuisine
DESCRIPTION:New to the world of South African dining? Melanie Mottinger’s got your back. Mottinger will guide you on a vibrant exploration of some South African classics. Design your own Seven Colors Sunday feast\, a lush array of collards\, beets\, squash or sweet potatoes\, turmeric rice\, and more. Pair it with Bobotie\, a curried ground beef dish topped with egg custard. \nBroaden your culinary horizons at the Marquette Food Co-op! \nHands on class \n$45 for Co-op owners\, $60 for General Admission \nOwner price is only available to owners. Owners who purchase tickets on behalf of non-owners must pay the general admission price for that ticket. The owner price is a benefit for Co-op owners. \nPrepayment is required to reserve a space in this class.   A minimum of six people will be required to have the class. Please feel free to contact Amanda at 225-0671 ext. 727 before you register if you have questions about the menu.
URL:https://marquettefood.coop/event/mfc-culinary-class-south-african-cuisine-2/
LOCATION:Marquette Food Co-op\, 502 W. Washington\, Marquette\, MI\, 49855\, United States
CATEGORIES:Cooking Class
END:VEVENT
BEGIN:VEVENT
DTSTART;TZID=UTC:20250404T170000
DTEND;TZID=UTC:20250404T213000
DTSTAMP:20260424T073933
CREATED:20250325T133830Z
LAST-MODIFIED:20250325T133830Z
UID:14381-1743786000-1743802200@marquettefood.coop
SUMMARY:2025 Annual Meeting of Owners
DESCRIPTION:Join us for an evening of food\, music\, and camaraderie to celebrate another year of the Marquette Food Co-op!\n\n5-5:30pm | Social & swing dance lesson5:30pm | Annual Meeting of Owners 6:30pm | Dinner 7:10pm | Raffle winners announced 7:15-9:30pm | Music by the Westerly Winds Big Band A second swing lesson will be offered in the Peninsula II room from 7:15-7:45.\n\nFree childcare from Discovery Central will be available in the Peninsula II room from 5-6:30pm.\n\nAll are welcome from long-time owners to shoppers who would like to learn more. $5 for MFC owners & $10 for non-owners\, children 12 & under are free. Cash bar. No advance tickets necessary. Cash or check at the door\, ATM is available in the building.
URL:https://marquettefood.coop/event/2025-annual-meeting-of-owners/
LOCATION:Northern Michigan University
CATEGORIES:Events
END:VEVENT
BEGIN:VEVENT
DTSTART;TZID=UTC:20250318T180000
DTEND;TZID=UTC:20250318T193000
DTSTAMP:20260424T073933
CREATED:20250107T131319Z
LAST-MODIFIED:20250107T131319Z
UID:14157-1742320800-1742326200@marquettefood.coop
SUMMARY:MFC Board of Directors Meeting
DESCRIPTION:
URL:https://marquettefood.coop/event/mfc-board-of-directors-meeting-9/
LOCATION:Marquette Food Co-op\, 502 W. Washington\, Marquette\, MI\, 49855\, United States
CATEGORIES:Board Meeting
END:VEVENT
BEGIN:VEVENT
DTSTART;TZID=UTC:20250306T173000
DTEND;TZID=UTC:20250306T190000
DTSTAMP:20260424T073933
CREATED:20241204T221335Z
LAST-MODIFIED:20250303T163903Z
UID:14003-1741282200-1741287600@marquettefood.coop
SUMMARY:MFC Culinary Class- Take & Bake Spanakopita Hand Pies
DESCRIPTION:You may be thinking\, “Spanakopita? That delicious\, herby\, savory\, bright and flaky pie? That’s too hard for my kid and I to make!” Wrong! The Marquette Food Co-op’s Amanda Latvala and Sarah Monte know all the tips and tricks to teach you and your family how to make a masterful spanakopita hand pie of your own. \nYou’ll snack on a spanakopita hand pies while Amanda and Sarah run you through flag folds\, a technical step crucial for the perfect hand pie. Afterwards\, you’ll make your own spanakopita to save for whenever you need a quick meal. This class is a “take and bake” lesson for adults and accompanied kids. No kid? No problem. Bring a friend. Bring yourself. All that matters is that you bring your appetite! \nHands-on\, vegetarian. Children ages 8 & up welcome \n$35 for Co-op owners\, $50 for General Admission \nOwner price is only available to owners. Owners who purchase tickets on behalf of non-owners must pay the general admission price for that ticket. The owner price is a benefit for Co-op owners. \nPrepayment is required to reserve a space in this class.   A minimum of six people will be required to have the class. Please feel free to contact Amanda at 225-0671 ext. 727 before you register if you have questions about the menu.
URL:https://marquettefood.coop/event/mfc-culinary-class-take-bake-spanakopita-hand-pies/
LOCATION:Marquette Food Co-op\, 502 W. Washington\, Marquette\, MI\, 49855\, United States
CATEGORIES:Cooking Class
END:VEVENT
BEGIN:VEVENT
DTSTART;TZID=UTC:20250304T173000
DTEND;TZID=UTC:20250304T190000
DTSTAMP:20260424T073933
CREATED:20241204T221410Z
LAST-MODIFIED:20241204T221410Z
UID:14001-1741109400-1741114800@marquettefood.coop
SUMMARY:MFC Culinary Class- Take & Bake Spanakopita Hand Pies.
DESCRIPTION:You may be thinking\, “Spanakopita? That delicious\, herby\, savory\, bright and flaky pie? That’s too hard for my kid and I to make!” Wrong! The Marquette Food Co-op’s Amanda Latvala and Sarah Monte know all the tips and tricks to teach you and your family how to make a masterful spanakopita hand pie of your own. \nYou’ll snack on a spanakopita hand pies while Amanda and Sarah run you through flag folds\, a technical step crucial for the perfect hand pie. Afterwards\, you’ll make your own spanakopita to save for whenever you need a quick meal. This class is a “take and bake” lesson for adults and accompanied kids. No kid? No problem. Bring a friend. Bring yourself. All that matters is that you bring your appetite! \nHands-on\, vegetarian. Children ages 8 & up welcome \n$35 for Co-op owners\, $50 for General Admission \nOwner price is only available to owners. Owners who purchase tickets on behalf of non-owners must pay the general admission price for that ticket. The owner price is a benefit for Co-op owners. \nPrepayment is required to reserve a space in this class.   A minimum of six people will be required to have the class. Please feel free to contact Amanda at 225-0671 ext. 727 before you register if you have questions about the menu.
URL:https://marquettefood.coop/event/mfc-culinary-class-take-bake-spanakopita-hand-pies-2/
LOCATION:Marquette Food Co-op\, 502 W. Washington\, Marquette\, MI\, 49855\, United States
CATEGORIES:Cooking Class
END:VEVENT
BEGIN:VEVENT
DTSTART;TZID=UTC:20250303T180000
DTEND;TZID=UTC:20250303T190000
DTSTAMP:20260424T073933
CREATED:20250221T204117Z
LAST-MODIFIED:20250221T204218Z
UID:14307-1741024800-1741028400@marquettefood.coop
SUMMARY:Acupuncture & Women's Health
DESCRIPTION:Looking for holistic ways for fertility support\, pregnancy\, menopause\, or menstrual issues like PCOS? Acupuncture and Traditional Chinese Medicine can help! Come join Dr. Brianne Levandoski for a FREE event at the Marquette Food Co-op including information about acupuncture\, Chinese Medicine\, and tools you can use for women’s health. There will be food and drinks\, so please register for the event. Bring a friend or two for a ladies night out! \nUse code “FREE” during checkout: https://www.eventbrite.com/e/acupuncture-womens-health-tickets-1232951835129?aff=oddtdtcreator
URL:https://marquettefood.coop/event/acupuncture-womens-health/
LOCATION:Marquette Food Co-op\, 502 W. Washington\, Marquette Township\, MI\, 49855\, United States
END:VEVENT
BEGIN:VEVENT
DTSTART;TZID=UTC:20250225T173000
DTEND;TZID=UTC:20250225T200000
DTSTAMP:20260424T073933
CREATED:20241204T221423Z
LAST-MODIFIED:20241204T221423Z
UID:13996-1740504600-1740513600@marquettefood.coop
SUMMARY:Taste of Northern India
DESCRIPTION:Join the Marquette Food Co-op for an Indian Cooking Class that will bring the vibrant flavors of North India right to your kitchen! Whether you’re new to Indian cuisine or just looking for some simple\, delicious recipes\, this class will show you how to create a complete\, balanced meal with ease. \nTogether\, we’ll make a comforting lentil dal\, a refreshing raita (the Indian version of tzatziki)\, perfectly spiced vegetables\, and fragrant rice—everything you need to bring a taste of India to your table. Raj Vable of Young Mountain Tea will lead this course\, bringing the culinary lessons he learned from visiting his grandparents in India. \nHands-on\, gluten-free\, vegetarian \n$35 for Co-op owners\, $50 for General Admission \nOwner price is only available to owners. Owners who purchase tickets on behalf of non-owners must pay the general admission price for that ticket. The owner price is a benefit for Co-op owners. \nPrepayment is required to reserve a space in this class.   A minimum of six people will be required to have the class. Please feel free to contact Amanda at 225-0671 ext. 727 before you register if you have questions about the menu.
URL:https://marquettefood.coop/event/taste-of-northern-india/
LOCATION:Marquette Food Co-op\, 502 W. Washington\, Marquette\, MI\, 49855\, United States
CATEGORIES:Cooking Class
END:VEVENT
BEGIN:VEVENT
DTSTART;TZID=UTC:20250218T180000
DTEND;TZID=UTC:20250218T193000
DTSTAMP:20260424T073933
CREATED:20250107T131244Z
LAST-MODIFIED:20250107T131244Z
UID:14155-1739901600-1739907000@marquettefood.coop
SUMMARY:MFC Board of Directors Meeting
DESCRIPTION:
URL:https://marquettefood.coop/event/mfc-board-of-directors-meeting-8/
LOCATION:Marquette Food Co-op\, 502 W. Washington\, Marquette\, MI\, 49855\, United States
CATEGORIES:Board Meeting
END:VEVENT
BEGIN:VEVENT
DTSTART;TZID=UTC:20250211T170000
DTEND;TZID=UTC:20250211T200000
DTSTAMP:20260424T073933
CREATED:20241204T221437Z
LAST-MODIFIED:20241204T221437Z
UID:13998-1739293200-1739304000@marquettefood.coop
SUMMARY:Hand Rolled Pasta with Strega Nonna
DESCRIPTION:Rachael Grossman of Strega Nonna visits Marquette! You may have been bewitched by Strega Nonna once before. It’d be no surprise. Grossman will be stopping by the Co-op to teach you the basics of water-dough pasta and two sumptuous sauce recipes\, a classic tomato sauce\, and a sausage\, broccoli and hot pepper sauce. \nBringing her love of relaxed\, plentiful meals in Italy\, Grossman’s reinvented the Italian dining experience through U.P. ingredients\, culture\, and traditions. From rolling and shaping your own pasta to prepping the perfect sauce for your dish\, expect a full evening of hands-on learning and fun! \nHands-on \n$45 for Co-op owners\, $60 for General Admission \nOwner price is only available to owners. Owners who purchase tickets on behalf of non-owners must pay the general admission price for that ticket. The owner price is a benefit for Co-op owners. \nPrepayment is required to reserve a space in this class.   A minimum of six people will be required to have the class. Please feel free to contact Amanda at 225-0671 ext. 727 before you register if you have questions about the menu.
URL:https://marquettefood.coop/event/hand-rolled-pasta-with-strega-nonna/
LOCATION:Marquette Food Co-op\, 502 W. Washington\, Marquette\, MI\, 49855\, United States
CATEGORIES:Cooking Class
END:VEVENT
BEGIN:VEVENT
DTSTART;TZID=UTC:20250205T173000
DTEND;TZID=UTC:20250205T193000
DTSTAMP:20260424T073933
CREATED:20241204T221504Z
LAST-MODIFIED:20250203T181310Z
UID:13991-1738776600-1738783800@marquettefood.coop
SUMMARY:MFC Culinary Class- Cook with our Dietician
DESCRIPTION:We’re almost two weeks post-New Year’s Day. Most of us promised ourselves to eat healthier\, live healthier. \nEducation Coordinator and Registered Dietitian Amanda Latvala has all the tips on how to cook bold recipes that are simple to make and dense with essential vitamins and minerals. Come learn all about hearty baked salads with bright vinaigrettes. Latvala revives burger night with spiced lentil burgers with a fabulous dipping sauce. \nIt’s easy to feel like healthy eating is hard to afford or plan out\, even with excellent recipes. Latvala knows this pitfall all too well\, which is why she’ll share her methods for shopping on a budget and easy meal prep. This is a repeat class from January 2023 \nHands on\, vegetarian option \n$35 for Co-op owners\, $50 for General Admission \nOwner price is only available to owners. Owners who purchase tickets on behalf of non-owners must pay the general admission price for that ticket. The owner price is a benefit for Co-op owners. \nPrepayment is required to reserve a space in this class.   A minimum of six people will be required to have the class. Please feel free to contact Amanda at 225-0671 ext. 727 before you register if you have questions about the menu.
URL:https://marquettefood.coop/event/mfc-culinary-class-cook-with-our-dietician/
LOCATION:Marquette Food Co-op\, 502 W. Washington\, Marquette\, MI\, 49855\, United States
CATEGORIES:Cooking Class
END:VEVENT
BEGIN:VEVENT
DTSTART;TZID=UTC:20250204T173000
DTEND;TZID=UTC:20250204T200000
DTSTAMP:20260424T073933
CREATED:20241204T221449Z
LAST-MODIFIED:20241204T221449Z
UID:13994-1738690200-1738699200@marquettefood.coop
SUMMARY:Taste of Northern India
DESCRIPTION:Join the Marquette Food Co-op for an Indian Cooking Class that will bring the vibrant flavors of North India right to your kitchen! Whether you’re new to Indian cuisine or just looking for some simple\, delicious recipes\, this class will show you how to create a complete\, balanced meal with ease. \nTogether\, we’ll make a comforting lentil dal\, a refreshing raita (the Indian version of tzatziki)\, perfectly spiced vegetables\, and fragrant rice—everything you need to bring a taste of India to your table. Raj Vable of Young Mountain Tea will lead this course\, bringing the culinary lessons he learned from visiting his grandparents in India. \nHands-on\, gluten-free\, vegetarian \n$35 for Co-op owners\, $50 for General Admission \nOwner price is only available to owners. Owners who purchase tickets on behalf of non-owners must pay the general admission price for that ticket. The owner price is a benefit for Co-op owners. \nPrepayment is required to reserve a space in this class.   A minimum of six people will be required to have the class. Please feel free to contact Amanda at 225-0671 ext. 727 before you register if you have questions about the menu.
URL:https://marquettefood.coop/event/taste-of-northern-india-2/
LOCATION:Marquette Food Co-op\, 502 W. Washington\, Marquette\, MI\, 49855\, United States
CATEGORIES:Cooking Class
END:VEVENT
BEGIN:VEVENT
DTSTART;TZID=UTC:20250129T173000
DTEND;TZID=UTC:20250129T193000
DTSTAMP:20260424T073933
CREATED:20250107T132757Z
LAST-MODIFIED:20250107T134600Z
UID:14169-1738171800-1738179000@marquettefood.coop
SUMMARY:Private Cub Scout Cooking Class
DESCRIPTION:This is a private cooking class organized by a local cub scout troop. To sign up for a public class or schedule your own private class\, visit our classes page.
URL:https://marquettefood.coop/event/private-cub-scout-cooking-class/
LOCATION:Marquette Food Co-op\, 502 W. Washington\, Marquette\, MI\, 49855\, United States
CATEGORIES:Cooking Class
END:VEVENT
BEGIN:VEVENT
DTSTART;TZID=UTC:20250127T160000
DTEND;TZID=UTC:20250127T180000
DTSTAMP:20260424T073933
CREATED:20250107T132535Z
LAST-MODIFIED:20250107T134628Z
UID:14167-1737993600-1738000800@marquettefood.coop
SUMMARY:Private Homeschool Class Group 2: Mexican Meal
DESCRIPTION:This is a private class organized by a local homeschool group. To sign up for a public class or to schedule a private cooking class visit our classes page.
URL:https://marquettefood.coop/event/private-homeschool-class-group-2-mexican-meal/
LOCATION:Marquette Food Co-op\, 502 W. Washington\, Marquette\, MI\, 49855\, United States
CATEGORIES:Cooking Class
END:VEVENT
BEGIN:VEVENT
DTSTART;TZID=UTC:20250122T160000
DTEND;TZID=UTC:20250122T180000
DTSTAMP:20260424T073933
CREATED:20250107T132321Z
LAST-MODIFIED:20250107T132321Z
UID:14165-1737561600-1737568800@marquettefood.coop
SUMMARY:Peter White Public Library Teen Cooking Class
DESCRIPTION:This event is organized by the teen youth services at Peter White Public Library. To join their email list for events\, call 226-4321  or e-mail Amanda Pierce at apierce@pwpl.info for more information.
URL:https://marquettefood.coop/event/peter-white-public-library-teen-cooking-class/
LOCATION:Marquette Food Co-op\, 502 W. Washington\, Marquette\, MI\, 49855\, United States
CATEGORIES:Cooking Class
END:VEVENT
BEGIN:VEVENT
DTSTART;TZID=UTC:20250122T080000
DTEND;TZID=UTC:20250128T210000
DTSTAMP:20260424T073933
CREATED:20250107T131722Z
LAST-MODIFIED:20250107T131722Z
UID:14161-1737532800-1738098000@marquettefood.coop
SUMMARY:Citrus Spree
DESCRIPTION:Save 25% on all fresh citrus in the store!  \n10% off owner coupon does not apply to citrus spree items
URL:https://marquettefood.coop/event/citrus-spree-3/
LOCATION:Marquette Food Co-op\, 502 W. Washington\, Marquette\, MI\, 49855\, United States
CATEGORIES:Sale
END:VEVENT
BEGIN:VEVENT
DTSTART;TZID=UTC:20250121T180000
DTEND;TZID=UTC:20250121T193000
DTSTAMP:20260424T073933
CREATED:20250107T131200Z
LAST-MODIFIED:20250107T131200Z
UID:14153-1737482400-1737487800@marquettefood.coop
SUMMARY:MFC Board of Directors Meeting
DESCRIPTION:
URL:https://marquettefood.coop/event/mfc-board-of-directors-meeting-7/
LOCATION:Marquette Food Co-op\, 502 W. Washington\, Marquette\, MI\, 49855\, United States
END:VEVENT
BEGIN:VEVENT
DTSTART;TZID=UTC:20250120T160000
DTEND;TZID=UTC:20250120T180000
DTSTAMP:20260424T073933
CREATED:20250107T132023Z
LAST-MODIFIED:20250107T134533Z
UID:14163-1737388800-1737396000@marquettefood.coop
SUMMARY:Private Homeschool Culinary Class: Mexican Meal
DESCRIPTION:This is a private class organized by a local homeschool group. To sign up for a public class or to schedule a private cooking class visit our classes website page.
URL:https://marquettefood.coop/event/private-homeschool-class-mexican-meal/
LOCATION:Marquette Food Co-op\, 502 W. Washington\, Marquette\, MI\, 49855\, United States
CATEGORIES:Cooking Class
END:VEVENT
BEGIN:VEVENT
DTSTART;TZID=UTC:20250117T080000
DTEND;TZID=UTC:20250120T210000
DTSTAMP:20260424T073933
CREATED:20250107T131555Z
LAST-MODIFIED:20250107T131555Z
UID:14159-1737100800-1737406800@marquettefood.coop
SUMMARY:Wellness Weekend
DESCRIPTION:Save 25% on all vitamins\, supplements\, and body care items in the store! \nExcludes items already on sale. 10% off owner coupon does not apply to Wellness Weekend sale items.
URL:https://marquettefood.coop/event/wellness-weekend-12/
LOCATION:Marquette Food Co-op\, 502 W. Washington\, Marquette\, MI\, 49855\, United States
END:VEVENT
BEGIN:VEVENT
DTSTART;TZID=UTC:20250116T080000
DTEND;TZID=UTC:20250123T210000
DTSTAMP:20260424T073933
CREATED:20250107T133843Z
LAST-MODIFIED:20250107T134657Z
UID:14171-1737014400-1737666000@marquettefood.coop
SUMMARY:Warming Center Winter Care Kit Donation Collection
DESCRIPTION:
URL:https://marquettefood.coop/event/warming-center-winter-care-kit-donation-collection/
LOCATION:Marquette Food Co-op\, 502 W. Washington\, Marquette\, MI\, 49855\, United States
CATEGORIES:Local Event
END:VEVENT
BEGIN:VEVENT
DTSTART;TZID=UTC:20250115T080000
DTEND;TZID=UTC:20250115T210000
DTSTAMP:20260424T073933
CREATED:20250107T134228Z
LAST-MODIFIED:20250107T134352Z
UID:14176-1736928000-1736974800@marquettefood.coop
SUMMARY:Nominations for MFC Board of Directors Due
DESCRIPTION:Final day to turn in nominations for the MFC Board of Directors. Learn more by visiting the board pages of our website. https://marquettefood.coop/board/join/
URL:https://marquettefood.coop/event/nominations-for-mfc-board-of-directors-due/
LOCATION:Marquette Food Co-op\, 502 W. Washington\, Marquette\, MI\, 49855\, United States
CATEGORIES:Special Event
END:VEVENT
BEGIN:VEVENT
DTSTART;TZID=UTC:20250107T173000
DTEND;TZID=UTC:20250107T193000
DTSTAMP:20260424T073933
CREATED:20241204T220939Z
LAST-MODIFIED:20241204T220939Z
UID:13989-1736271000-1736278200@marquettefood.coop
SUMMARY:MFC Culinary Class- Whole Foods Plant Based Recipes for the New Year
DESCRIPTION:Increasing plants on your plate is a proven way to prolong your life and protect the environment. But what do you do with those plants? Long-time Co-op Owner\, Betsy Little\, and Dietitian Amanda Latvala are here to teach you techniques to increase your plant consumption without feeling restricted. \nFolks of all cooking skill levels are welcome to participate. Little and Latvala will guide you through the steps to cook with less oil and dry sauté. Then\, you’ll put your new knowledge to task as you make Vegetarian Sloppy Joes\, No-Tuna Salad Filling\, and Energy Balls. \nIf you’ve thought\, “I’m going to eat healthier this year!”\, then panicked at the idea of salads all day\, every day\, this class is for you. Let Little and Latvala demystify eating your vegetables and help you have a nutritious new year! \nHands on class. Vegan with gluten-free options \n$35 for Co-op owners\, $50 for General Admission \nOwner price is only available to owners. Owners who purchase tickets on behalf of non-owners must pay the general admission price for that ticket. The owner price is a benefit for Co-op owners. \nPrepayment is required to reserve a space in this class.   A minimum of six people will be required to have the class. Please feel free to contact Amanda at 225-0671 ext. 727 before you register if you have questions about the menu.
URL:https://marquettefood.coop/event/mfc-culinary-class-whole-foods-plant-based-recipes-for-the-new-year/
LOCATION:Marquette Food Co-op\, 502 W. Washington\, Marquette\, MI\, 49855\, United States
CATEGORIES:Cooking Class
END:VEVENT
BEGIN:VEVENT
DTSTART;TZID=UTC:20241224T110000
DTEND;TZID=UTC:20241224T170000
DTSTAMP:20260424T073933
CREATED:20241203T232643Z
LAST-MODIFIED:20241203T232643Z
UID:14019-1735038000-1735059600@marquettefood.coop
SUMMARY:Holiday Lunch Special
DESCRIPTION:Enjoy pot roast\, red skin potatoes (V)\, acorn squash (V)\, homestyle mac & cheese (VG)\, green bean casserole (V)\, stuffing\, carrot souffle (VG)\, and strawberry feta quinoa salad (VG). Menu available while supplies last.
URL:https://marquettefood.coop/event/holiday-lunch-special/
LOCATION:Marquette Food Co-op\, 502 W. Washington\, Marquette\, MI\, 49855\, United States
CATEGORIES:Hot Bar,Menu
END:VEVENT
BEGIN:VEVENT
DTSTART;TZID=UTC:20241218T180000
DTEND;TZID=UTC:20241218T193000
DTSTAMP:20260424T073933
CREATED:20241203T232345Z
LAST-MODIFIED:20241203T232345Z
UID:14017-1734544800-1734550200@marquettefood.coop
SUMMARY:MFC Board of Directors Meeting
DESCRIPTION:
URL:https://marquettefood.coop/event/mfc-board-of-directors-meeting-6/
LOCATION:Marquette Food Co-op\, 502 W. Washington\, Marquette\, MI\, 49855\, United States
CATEGORIES:Board Meeting
END:VEVENT
BEGIN:VEVENT
DTSTART;TZID=UTC:20241218T160000
DTEND;TZID=UTC:20241218T180000
DTSTAMP:20260424T073933
CREATED:20241202T173522Z
LAST-MODIFIED:20241202T173522Z
UID:13980-1734537600-1734544800@marquettefood.coop
SUMMARY:Peter White Public Library Tweens Program: Cookies
DESCRIPTION:For more information or to book a private classes for your friends\, family\, or business contact Amanda at 906-225-0671 x727
URL:https://marquettefood.coop/event/peter-white-public-library-tweens-program-cookies/
LOCATION:Marquette Food Co-op\, 502 W. Washington\, Marquette\, MI\, 49855\, United States
CATEGORIES:Cooking Class
END:VEVENT
BEGIN:VEVENT
DTSTART;TZID=UTC:20241216T160000
DTEND;TZID=UTC:20241216T180000
DTSTAMP:20260424T073933
CREATED:20241202T173152Z
LAST-MODIFIED:20241202T173658Z
UID:13978-1734364800-1734372000@marquettefood.coop
SUMMARY:Homeschool Group Private Class: Latkes
DESCRIPTION:For more information or to book a private class for your friends\, family\, or business contact Amanda at 906-225-0671 x727
URL:https://marquettefood.coop/event/private-class-latkes/
LOCATION:Marquette Food Co-op\, 502 W. Washington\, Marquette\, MI\, 49855\, United States
END:VEVENT
BEGIN:VEVENT
DTSTART;TZID=UTC:20241212T173000
DTEND;TZID=UTC:20241212T200000
DTSTAMP:20260424T073933
CREATED:20240906T174914Z
LAST-MODIFIED:20241007T150256Z
UID:13622-1734024600-1734033600@marquettefood.coop
SUMMARY:MFC Culinary Class - Taste of Pakistan
DESCRIPTION:Looking for your chance to try Pakistani food? Join us as we try one of South Asia’s most taste-bud-tantalizing experiences! \nRafia Shamsi will be stopping by the Marquette Food Co-op to teach you some of Pakistan’s favorite dishes. Learn what curry is\, discover a spice blend unique to Pakistan\, and make a very famous Pakistani dish: Biryani. \nCome take a culinary trip with us! You’re bound to find a new favorite dish or two \nHands On \n$35 for Co-op owners\, $50 for General Admission \nOwner price is only available to owners. Owners who purchase tickets on behalf of non-owners must pay the general admission price for that ticket. The owner price is a benefit for Co-op owners. \nPrepayment is required to reserve a space in this class.   A minimum of six people will be required to have the class. Please feel free to contact Amanda at 225-0671 ext. 727 before you register if you have questions about the menu.
URL:https://marquettefood.coop/event/mfc-culinary-class-taste-of-pakistan/
LOCATION:Marquette Food Co-op\, 502 W. Washington\, Marquette\, MI\, 49855\, United States
CATEGORIES:Cooking Class,Events
END:VEVENT
BEGIN:VEVENT
DTSTART;TZID=UTC:20241211T173000
DTEND;TZID=UTC:20241211T200000
DTSTAMP:20260424T073933
CREATED:20240906T175133Z
LAST-MODIFIED:20241202T172856Z
UID:13624-1733938200-1733947200@marquettefood.coop
SUMMARY:MFC Culinary Class - Taste of Pakistan
DESCRIPTION:Looking for your chance to try Pakistani food? Join us as we try one of South Asia’s most taste-bud-tantalizing experiences! \nRafia Shamsi will be stopping by the Marquette Food Co-op to teach you some of Pakistan’s favorite dishes. Learn what curry is\, discover a spice blend unique to Pakistan\, and make a very famous Pakistani dish: Biryani. \nCome take a culinary trip with us! You’re bound to find a new favorite dish or two \nHands On \n$35 for Co-op owners\, $50 for General Admission \nOwner price is only available to owners. Owners who purchase tickets on behalf of non-owners must pay the general admission price for that ticket. The owner price is a benefit for Co-op owners. \nPrepayment is required to reserve a space in this class.   A minimum of six people will be required to have the class. Please feel free to contact Amanda at 225-0671 ext. 727 before you register if you have questions about the menu.
URL:https://marquettefood.coop/event/mfc-culinary-class-taste-of-pakistan-2/
LOCATION:Marquette Food Co-op\, 502 W. Washington\, Marquette\, MI\, 49855\, United States
CATEGORIES:Cooking Class,Events
END:VEVENT
BEGIN:VEVENT
DTSTART;TZID=UTC:20241210T173000
DTEND;TZID=UTC:20241210T190000
DTSTAMP:20260424T073933
CREATED:20240906T175337Z
LAST-MODIFIED:20241007T150323Z
UID:13626-1733851800-1733857200@marquettefood.coop
SUMMARY:MFC Culinary Class - Sip & Learn: Mastering Wine and Cheese Pairings
DESCRIPTION:Learn about the world of wine and seasonal cheese through a night of sampling and conversation. \nThe Marquette Food Co-op’s Cheese Buyer\, Keale\, and Beer and Wine Buyer\, Ryan\, will share their wisdom on cheese and wine through a deep dive on wine varieties\, tasting notes\, and cheese pairings. Plan to explore an array of wines with charcuterie-style snacks\, including seasonal\, specialty cheeses. \nCome by the Co-op and enhance your wine pairings and cheese selections. \n  \n$35 for Co-op owners\, $50 for General Admission \nOwner price is only available to owners. Owners who purchase tickets on behalf of non-owners must pay the general admission price for that ticket. The owner price is a benefit for Co-op owners. \nPrepayment is required to reserve a space in this class.   A minimum of six people will be required to have the class. Please feel free to contact Amanda at 225-0671 ext. 727 before you register if you have questions about the menu.
URL:https://marquettefood.coop/event/mfc-culinary-class-sip-learn-mastering-wine-and-cheese-pairings/
LOCATION:Marquette Food Co-op\, 502 W. Washington\, Marquette\, MI\, 49855\, United States
CATEGORIES:Cooking Class,Events
END:VEVENT
BEGIN:VEVENT
DTSTART;VALUE=DATE:20241128
DTEND;VALUE=DATE:20241129
DTSTAMP:20260424T073933
CREATED:20241030T173942Z
LAST-MODIFIED:20241030T173942Z
UID:13884-1732752000-1732838399@marquettefood.coop
SUMMARY:Thanksgiving
DESCRIPTION:The Marquette Food Co-op wishes everyone who celebrates a happy Thanksgiving. In observance of the holiday\, we will be closed all day\, Nov. 28.
URL:https://marquettefood.coop/event/thanksgiving/
LOCATION:MI
CATEGORIES:Holiday
END:VEVENT
BEGIN:VEVENT
DTSTART;VALUE=DATE:20241127
DTEND;VALUE=DATE:20241128
DTSTAMP:20260424T073933
CREATED:20241030T173759Z
LAST-MODIFIED:20241030T173759Z
UID:13882-1732665600-1732751999@marquettefood.coop
SUMMARY:Ascension of ’Abdu’l-Bahá
DESCRIPTION:
URL:https://marquettefood.coop/event/ascension-of-abdul-baha/
LOCATION:MI
CATEGORIES:Holiday
END:VEVENT
END:VCALENDAR