BEGIN:VCALENDAR
VERSION:2.0
PRODID:-//Marquette Food Co-op - ECPv6.11.2//NONSGML v1.0//EN
CALSCALE:GREGORIAN
METHOD:PUBLISH
X-ORIGINAL-URL:https://marquettefood.coop
X-WR-CALDESC:Events for Marquette Food Co-op
REFRESH-INTERVAL;VALUE=DURATION:PT1H
X-Robots-Tag:noindex
X-PUBLISHED-TTL:PT1H
BEGIN:VTIMEZONE
TZID:UTC
BEGIN:STANDARD
TZOFFSETFROM:+0000
TZOFFSETTO:+0000
TZNAME:UTC
DTSTART:20240101T000000
END:STANDARD
END:VTIMEZONE
BEGIN:VEVENT
DTSTART;TZID=UTC:20250107T173000
DTEND;TZID=UTC:20250107T193000
DTSTAMP:20260424T044002
CREATED:20241204T220939Z
LAST-MODIFIED:20241204T220939Z
UID:13989-1736271000-1736278200@marquettefood.coop
SUMMARY:MFC Culinary Class- Whole Foods Plant Based Recipes for the New Year
DESCRIPTION:Increasing plants on your plate is a proven way to prolong your life and protect the environment. But what do you do with those plants? Long-time Co-op Owner\, Betsy Little\, and Dietitian Amanda Latvala are here to teach you techniques to increase your plant consumption without feeling restricted. \nFolks of all cooking skill levels are welcome to participate. Little and Latvala will guide you through the steps to cook with less oil and dry sauté. Then\, you’ll put your new knowledge to task as you make Vegetarian Sloppy Joes\, No-Tuna Salad Filling\, and Energy Balls. \nIf you’ve thought\, “I’m going to eat healthier this year!”\, then panicked at the idea of salads all day\, every day\, this class is for you. Let Little and Latvala demystify eating your vegetables and help you have a nutritious new year! \nHands on class. Vegan with gluten-free options \n$35 for Co-op owners\, $50 for General Admission \nOwner price is only available to owners. Owners who purchase tickets on behalf of non-owners must pay the general admission price for that ticket. The owner price is a benefit for Co-op owners. \nPrepayment is required to reserve a space in this class.   A minimum of six people will be required to have the class. Please feel free to contact Amanda at 225-0671 ext. 727 before you register if you have questions about the menu.
URL:https://marquettefood.coop/event/mfc-culinary-class-whole-foods-plant-based-recipes-for-the-new-year/
LOCATION:Marquette Food Co-op\, 502 W. Washington\, Marquette\, MI\, 49855\, United States
CATEGORIES:Cooking Class
END:VEVENT
BEGIN:VEVENT
DTSTART;TZID=UTC:20241224T110000
DTEND;TZID=UTC:20241224T170000
DTSTAMP:20260424T044002
CREATED:20241203T232643Z
LAST-MODIFIED:20241203T232643Z
UID:14019-1735038000-1735059600@marquettefood.coop
SUMMARY:Holiday Lunch Special
DESCRIPTION:Enjoy pot roast\, red skin potatoes (V)\, acorn squash (V)\, homestyle mac & cheese (VG)\, green bean casserole (V)\, stuffing\, carrot souffle (VG)\, and strawberry feta quinoa salad (VG). Menu available while supplies last.
URL:https://marquettefood.coop/event/holiday-lunch-special/
LOCATION:Marquette Food Co-op\, 502 W. Washington\, Marquette\, MI\, 49855\, United States
CATEGORIES:Hot Bar,Menu
END:VEVENT
BEGIN:VEVENT
DTSTART;TZID=UTC:20241218T180000
DTEND;TZID=UTC:20241218T193000
DTSTAMP:20260424T044002
CREATED:20241203T232345Z
LAST-MODIFIED:20241203T232345Z
UID:14017-1734544800-1734550200@marquettefood.coop
SUMMARY:MFC Board of Directors Meeting
DESCRIPTION:
URL:https://marquettefood.coop/event/mfc-board-of-directors-meeting-6/
LOCATION:Marquette Food Co-op\, 502 W. Washington\, Marquette\, MI\, 49855\, United States
CATEGORIES:Board Meeting
END:VEVENT
BEGIN:VEVENT
DTSTART;TZID=UTC:20241218T160000
DTEND;TZID=UTC:20241218T180000
DTSTAMP:20260424T044002
CREATED:20241202T173522Z
LAST-MODIFIED:20241202T173522Z
UID:13980-1734537600-1734544800@marquettefood.coop
SUMMARY:Peter White Public Library Tweens Program: Cookies
DESCRIPTION:For more information or to book a private classes for your friends\, family\, or business contact Amanda at 906-225-0671 x727
URL:https://marquettefood.coop/event/peter-white-public-library-tweens-program-cookies/
LOCATION:Marquette Food Co-op\, 502 W. Washington\, Marquette\, MI\, 49855\, United States
CATEGORIES:Cooking Class
END:VEVENT
BEGIN:VEVENT
DTSTART;TZID=UTC:20241216T160000
DTEND;TZID=UTC:20241216T180000
DTSTAMP:20260424T044002
CREATED:20241202T173152Z
LAST-MODIFIED:20241202T173658Z
UID:13978-1734364800-1734372000@marquettefood.coop
SUMMARY:Homeschool Group Private Class: Latkes
DESCRIPTION:For more information or to book a private class for your friends\, family\, or business contact Amanda at 906-225-0671 x727
URL:https://marquettefood.coop/event/private-class-latkes/
LOCATION:Marquette Food Co-op\, 502 W. Washington\, Marquette\, MI\, 49855\, United States
END:VEVENT
BEGIN:VEVENT
DTSTART;TZID=UTC:20241212T173000
DTEND;TZID=UTC:20241212T200000
DTSTAMP:20260424T044002
CREATED:20240906T174914Z
LAST-MODIFIED:20241007T150256Z
UID:13622-1734024600-1734033600@marquettefood.coop
SUMMARY:MFC Culinary Class - Taste of Pakistan
DESCRIPTION:Looking for your chance to try Pakistani food? Join us as we try one of South Asia’s most taste-bud-tantalizing experiences! \nRafia Shamsi will be stopping by the Marquette Food Co-op to teach you some of Pakistan’s favorite dishes. Learn what curry is\, discover a spice blend unique to Pakistan\, and make a very famous Pakistani dish: Biryani. \nCome take a culinary trip with us! You’re bound to find a new favorite dish or two \nHands On \n$35 for Co-op owners\, $50 for General Admission \nOwner price is only available to owners. Owners who purchase tickets on behalf of non-owners must pay the general admission price for that ticket. The owner price is a benefit for Co-op owners. \nPrepayment is required to reserve a space in this class.   A minimum of six people will be required to have the class. Please feel free to contact Amanda at 225-0671 ext. 727 before you register if you have questions about the menu.
URL:https://marquettefood.coop/event/mfc-culinary-class-taste-of-pakistan/
LOCATION:Marquette Food Co-op\, 502 W. Washington\, Marquette\, MI\, 49855\, United States
CATEGORIES:Cooking Class,Events
END:VEVENT
BEGIN:VEVENT
DTSTART;TZID=UTC:20241211T173000
DTEND;TZID=UTC:20241211T200000
DTSTAMP:20260424T044002
CREATED:20240906T175133Z
LAST-MODIFIED:20241202T172856Z
UID:13624-1733938200-1733947200@marquettefood.coop
SUMMARY:MFC Culinary Class - Taste of Pakistan
DESCRIPTION:Looking for your chance to try Pakistani food? Join us as we try one of South Asia’s most taste-bud-tantalizing experiences! \nRafia Shamsi will be stopping by the Marquette Food Co-op to teach you some of Pakistan’s favorite dishes. Learn what curry is\, discover a spice blend unique to Pakistan\, and make a very famous Pakistani dish: Biryani. \nCome take a culinary trip with us! You’re bound to find a new favorite dish or two \nHands On \n$35 for Co-op owners\, $50 for General Admission \nOwner price is only available to owners. Owners who purchase tickets on behalf of non-owners must pay the general admission price for that ticket. The owner price is a benefit for Co-op owners. \nPrepayment is required to reserve a space in this class.   A minimum of six people will be required to have the class. Please feel free to contact Amanda at 225-0671 ext. 727 before you register if you have questions about the menu.
URL:https://marquettefood.coop/event/mfc-culinary-class-taste-of-pakistan-2/
LOCATION:Marquette Food Co-op\, 502 W. Washington\, Marquette\, MI\, 49855\, United States
CATEGORIES:Cooking Class,Events
END:VEVENT
BEGIN:VEVENT
DTSTART;TZID=UTC:20241210T173000
DTEND;TZID=UTC:20241210T190000
DTSTAMP:20260424T044002
CREATED:20240906T175337Z
LAST-MODIFIED:20241007T150323Z
UID:13626-1733851800-1733857200@marquettefood.coop
SUMMARY:MFC Culinary Class - Sip & Learn: Mastering Wine and Cheese Pairings
DESCRIPTION:Learn about the world of wine and seasonal cheese through a night of sampling and conversation. \nThe Marquette Food Co-op’s Cheese Buyer\, Keale\, and Beer and Wine Buyer\, Ryan\, will share their wisdom on cheese and wine through a deep dive on wine varieties\, tasting notes\, and cheese pairings. Plan to explore an array of wines with charcuterie-style snacks\, including seasonal\, specialty cheeses. \nCome by the Co-op and enhance your wine pairings and cheese selections. \n  \n$35 for Co-op owners\, $50 for General Admission \nOwner price is only available to owners. Owners who purchase tickets on behalf of non-owners must pay the general admission price for that ticket. The owner price is a benefit for Co-op owners. \nPrepayment is required to reserve a space in this class.   A minimum of six people will be required to have the class. Please feel free to contact Amanda at 225-0671 ext. 727 before you register if you have questions about the menu.
URL:https://marquettefood.coop/event/mfc-culinary-class-sip-learn-mastering-wine-and-cheese-pairings/
LOCATION:Marquette Food Co-op\, 502 W. Washington\, Marquette\, MI\, 49855\, United States
CATEGORIES:Cooking Class,Events
END:VEVENT
BEGIN:VEVENT
DTSTART;VALUE=DATE:20241128
DTEND;VALUE=DATE:20241129
DTSTAMP:20260424T044002
CREATED:20241030T173942Z
LAST-MODIFIED:20241030T173942Z
UID:13884-1732752000-1732838399@marquettefood.coop
SUMMARY:Thanksgiving
DESCRIPTION:The Marquette Food Co-op wishes everyone who celebrates a happy Thanksgiving. In observance of the holiday\, we will be closed all day\, Nov. 28.
URL:https://marquettefood.coop/event/thanksgiving/
LOCATION:MI
CATEGORIES:Holiday
END:VEVENT
BEGIN:VEVENT
DTSTART;VALUE=DATE:20241127
DTEND;VALUE=DATE:20241128
DTSTAMP:20260424T044002
CREATED:20241030T173759Z
LAST-MODIFIED:20241030T173759Z
UID:13882-1732665600-1732751999@marquettefood.coop
SUMMARY:Ascension of ’Abdu’l-Bahá
DESCRIPTION:
URL:https://marquettefood.coop/event/ascension-of-abdul-baha/
LOCATION:MI
CATEGORIES:Holiday
END:VEVENT
BEGIN:VEVENT
DTSTART;VALUE=DATE:20241125
DTEND;VALUE=DATE:20250101
DTSTAMP:20260424T044002
CREATED:20241115T143153Z
LAST-MODIFIED:20241115T143516Z
UID:13955-1732492800-1735689599@marquettefood.coop
SUMMARY:Round up at the Register for United Way
DESCRIPTION:Our annual Round up at the Register for United Way starts once more! Throughout the holidays\, Nov. 25 – Dec. 31\, customers may round up their checkout total to the nearest dollar\, donating the change between their total and the next whole dollar to United Way of Marquette County. \nUnited Way of Marquette County raises funds for their member agencies who provide services for Marquette County community members in one or more of the following areas: Basic Needs\, Elderly Citizens and Adults with Disabilities\, Youth Programs and Medical Assistance\, and Health Care. \nHelp us reach our goal of $5000 this year! Together\, we can help increase our community’s access to the resources it needs to thrive and support all its members.
URL:https://marquettefood.coop/event/roundupunitedway/
LOCATION:Marquette Food Co-op\, 502 W. Washington\, Marquette\, MI\, 49855\, United States
CATEGORIES:Events,Special Event
END:VEVENT
BEGIN:VEVENT
DTSTART;VALUE=DATE:20241124
DTEND;VALUE=DATE:20241125
DTSTAMP:20260424T044002
CREATED:20241030T173445Z
LAST-MODIFIED:20241030T173445Z
UID:13879-1732406400-1732492799@marquettefood.coop
SUMMARY:Martyrdom of Guru Tegh Bahadur Sahib
DESCRIPTION:
URL:https://marquettefood.coop/event/martyrdom-of-guru-tegh-bahadur-sahib/
LOCATION:MI
CATEGORIES:Holiday
END:VEVENT
BEGIN:VEVENT
DTSTART;VALUE=DATE:20241123
DTEND;VALUE=DATE:20241124
DTSTAMP:20260424T044002
CREATED:20241030T180634Z
LAST-MODIFIED:20241030T180634Z
UID:13890-1732320000-1732406399@marquettefood.coop
SUMMARY:Turkey Giveaway
DESCRIPTION:Save the date: our Annual Turkey Giveaway returns Saturday\, Nov. 23! \nWith any purchase of $150 or greater during the Giveaway\, get a free\, pasture-raised\, 10-12 pound turkey. Turkeys are available while supplies last\, so be quick! \nPrefer a plant-based meal? We’ve got options available upon request.
URL:https://marquettefood.coop/event/turkey-giveaway-2024/
LOCATION:Marquette Food Co-op\, 502 W. Washington\, Marquette\, MI\, 49855\, United States
CATEGORIES:Events,Sale
END:VEVENT
BEGIN:VEVENT
DTSTART;TZID=UTC:20241120T120000
DTEND;TZID=UTC:20241120T130000
DTSTAMP:20260424T044002
CREATED:20240906T175522Z
LAST-MODIFIED:20241007T150340Z
UID:13628-1732104000-1732107600@marquettefood.coop
SUMMARY:MFC Culinary Class - Tea Tasting with Raj of Young Mountain Tea
DESCRIPTION:Did you know that black tea and green tea come from the leaves of the same plant? \nJoin us for a fun and informative tea tasting that includes black\, green\, white and oolong teas direct from farmers in the Himalayas of India and Nepal. We’ll travel the subcontinent teacup by teacup\, stopping in Darjeeling\, Nepal\, Assam\, and many other regions along the way. \nBring your own lunch or enjoy something from the Co-op Hot Bar! \nVegan \nGluten Free \n$5 for Co-op owners\, $10 for General Admission \nOwner price is only available to owners. Owners who purchase tickets on behalf of non-owners must pay the general admission price for that ticket. The owner price is a benefit for Co-op owners. \nPrepayment is required to reserve a space in this class.   A minimum of six people will be required to have the class. Please feel free to contact Amanda at 225-0671 ext. 727 before you register if you have questions about the menu.
URL:https://marquettefood.coop/event/mfc-culinary-class-tea-tasting-with-raj-of-young-mountain-tea/
LOCATION:Marquette Food Co-op\, 502 W. Washington\, Marquette\, MI\, 49855\, United States
CATEGORIES:Cooking Class,Events
END:VEVENT
BEGIN:VEVENT
DTSTART;VALUE=DATE:20241115
DTEND;VALUE=DATE:20241116
DTSTAMP:20260424T044002
CREATED:20241030T173112Z
LAST-MODIFIED:20241030T173112Z
UID:13877-1731628800-1731715199@marquettefood.coop
SUMMARY:Birth of Guru Nanak Dev Sahib
DESCRIPTION:
URL:https://marquettefood.coop/event/birth-of-guru-nanak-dev-sahib/
LOCATION:MI
CATEGORIES:Holiday
END:VEVENT
BEGIN:VEVENT
DTSTART;VALUE=DATE:20241113
DTEND;VALUE=DATE:20241204
DTSTAMP:20260424T044002
CREATED:20241030T175542Z
LAST-MODIFIED:20241104T164547Z
UID:13888-1731456000-1733270399@marquettefood.coop
SUMMARY:Mix & Match Holiday Wine Sale
DESCRIPTION:Pick the perfect wine to pair with your holiday feast for a little less this season. \nBuy any two of our select wines\, get 15% off both bottles from Nov. 13 – Dec. 3. Featured wines include: \n\nOregon Trails Wine Company Pinot Noir\nMirabello Prosecco\nRiojana Malbec\nBonterra Chardonnay\nGrove Mill Sustainable Sauvignon Blanc
URL:https://marquettefood.coop/event/mix-match-holiday-wine-sale/
LOCATION:Marquette Food Co-op\, 502 W. Washington\, Marquette\, MI\, 49855\, United States
CATEGORIES:Sale
END:VEVENT
BEGIN:VEVENT
DTSTART;TZID=UTC:20241112T173000
DTEND;TZID=UTC:20241112T200000
DTSTAMP:20260424T044002
CREATED:20240906T175912Z
LAST-MODIFIED:20241007T150449Z
UID:13632-1731432600-1731441600@marquettefood.coop
SUMMARY:MFC Culinary Class - Nourishing Your Thanksgiving Table
DESCRIPTION:This hands-on class will teach you how to prepare protein-packed deviled eggs and a vibrant seasonal salad with homemade dressing. While you eat your cooking\, enjoy an engaging presentation on how to make a Thanksgiving dinner more nourishing. \nAttendees will take home recipes for Thanksgiving\, offering practical ways to add nutrition to their holiday meals without sacrificing flavor. This class is perfect for those looking to create a festive\, healthy Thanksgiving spread. \nHands On\n \nVegetarian \n$35 for Co-op owners\, $50 for General Admission \nOwner price is only available to owners. Owners who purchase tickets on behalf of non-owners must pay the general admission price for that ticket. The owner price is a benefit for Co-op owners. \nPrepayment is required to reserve a space in this class.   A minimum of six people will be required to have the class. Please feel free to contact Amanda at 225-0671 ext. 727 before you register if you have questions about the menu.
URL:https://marquettefood.coop/event/mfc-culinary-class-nourishing-your-thanksgiving-table-2/
LOCATION:Marquette Food Co-op\, 502 W. Washington\, Marquette\, MI\, 49855\, United States
CATEGORIES:Cooking Class,Events
END:VEVENT
BEGIN:VEVENT
DTSTART;TZID=UTC:20241105T173000
DTEND;TZID=UTC:20241105T200000
DTSTAMP:20260424T044002
CREATED:20240906T175713Z
LAST-MODIFIED:20241007T150528Z
UID:13630-1730827800-1730836800@marquettefood.coop
SUMMARY:MFC Culinary Class - Nourishing Your Thanksgiving Table
DESCRIPTION:This hands-on class will teach you how to prepare protein-packed deviled eggs and a vibrant seasonal salad with homemade dressing. While you eat your cooking\, enjoy an engaging presentation on how to make a Thanksgiving dinner more nourishing. \nAttendees will take home recipes for Thanksgiving\, offering practical ways to add nutrition to their holiday meals without sacrificing flavor. This class is perfect for those looking to create a festive\, healthy Thanksgiving spread. \nHands On\n \nVegetarian \n$35 for Co-op owners\, $50 for General Admission \nOwner price is only available to owners. Owners who purchase tickets on behalf of non-owners must pay the general admission price for that ticket. The owner price is a benefit for Co-op owners. \nPrepayment is required to reserve a space in this class.   A minimum of six people will be required to have the class. Please feel free to contact Amanda at 225-0671 ext. 727 before you register if you have questions about the menu.
URL:https://marquettefood.coop/event/mfc-culinary-class-nourishing-your-thanksgiving-table/
LOCATION:Marquette Food Co-op\, 502 W. Washington\, Marquette\, MI\, 49855\, United States
CATEGORIES:Cooking Class,Events
END:VEVENT
BEGIN:VEVENT
DTSTART;VALUE=DATE:20241105
DTEND;VALUE=DATE:20241106
DTSTAMP:20260424T044002
CREATED:20241030T174539Z
LAST-MODIFIED:20241030T174539Z
UID:13886-1730764800-1730851199@marquettefood.coop
SUMMARY:Election Day
DESCRIPTION:
URL:https://marquettefood.coop/event/election-day/
LOCATION:MI
CATEGORIES:Events,Special Event
END:VEVENT
BEGIN:VEVENT
DTSTART;VALUE=DATE:20241103
DTEND;VALUE=DATE:20241104
DTSTAMP:20260424T044002
CREATED:20241030T172152Z
LAST-MODIFIED:20241030T172152Z
UID:13873-1730592000-1730678399@marquettefood.coop
SUMMARY:Birth of Baháʼu'lláh
DESCRIPTION:
URL:https://marquettefood.coop/event/birth-of-baha%ca%bcullah/
LOCATION:MI
CATEGORIES:Holiday
END:VEVENT
BEGIN:VEVENT
DTSTART;VALUE=DATE:20241102
DTEND;VALUE=DATE:20241103
DTSTAMP:20260424T044002
CREATED:20241030T172737Z
LAST-MODIFIED:20241030T172737Z
UID:13875-1730505600-1730591999@marquettefood.coop
SUMMARY:Birth of the Bab
DESCRIPTION:
URL:https://marquettefood.coop/event/birth-of-the-bab/
LOCATION:MI
CATEGORIES:Holiday
END:VEVENT
BEGIN:VEVENT
DTSTART;VALUE=DATE:20241102
DTEND;VALUE=DATE:20241103
DTSTAMP:20260424T044002
CREATED:20241030T171842Z
LAST-MODIFIED:20241030T171855Z
UID:13870-1730505600-1730591999@marquettefood.coop
SUMMARY:All Souls' Day
DESCRIPTION:
URL:https://marquettefood.coop/event/all-souls-day/
LOCATION:MI
CATEGORIES:Holiday
END:VEVENT
BEGIN:VEVENT
DTSTART;VALUE=DATE:20241101
DTEND;VALUE=DATE:20241103
DTSTAMP:20260424T044002
CREATED:20241030T170454Z
LAST-MODIFIED:20241030T170454Z
UID:13864-1730419200-1730591999@marquettefood.coop
SUMMARY:Dia de los Muertos
DESCRIPTION:
URL:https://marquettefood.coop/event/dia-de-los-muertos/
LOCATION:MI
CATEGORIES:Holiday
END:VEVENT
BEGIN:VEVENT
DTSTART;VALUE=DATE:20241101
DTEND;VALUE=DATE:20241102
DTSTAMP:20260424T044002
CREATED:20241030T171651Z
LAST-MODIFIED:20241030T171651Z
UID:13868-1730419200-1730505599@marquettefood.coop
SUMMARY:All Saints' Day
DESCRIPTION:
URL:https://marquettefood.coop/event/all-saints-day/
LOCATION:MI
CATEGORIES:Holiday
END:VEVENT
BEGIN:VEVENT
DTSTART;VALUE=DATE:20241031
DTEND;VALUE=DATE:20241102
DTSTAMP:20260424T044002
CREATED:20241030T171530Z
LAST-MODIFIED:20241030T171530Z
UID:13866-1730332800-1730505599@marquettefood.coop
SUMMARY:Diwali
DESCRIPTION:
URL:https://marquettefood.coop/event/diwali/
LOCATION:MI
CATEGORIES:Holiday
END:VEVENT
BEGIN:VEVENT
DTSTART;VALUE=DATE:20241031
DTEND;VALUE=DATE:20241101
DTSTAMP:20260424T044002
CREATED:20241009T124411Z
LAST-MODIFIED:20241009T124411Z
UID:13813-1730332800-1730419199@marquettefood.coop
SUMMARY:Halloween
DESCRIPTION:Happy Halloween from the Marquette Food Co-op!
URL:https://marquettefood.coop/event/halloween-2024/
LOCATION:MI
CATEGORIES:Events,Holiday
END:VEVENT
BEGIN:VEVENT
DTSTART;VALUE=DATE:20241030
DTEND;VALUE=DATE:20241204
DTSTAMP:20260424T044002
CREATED:20241030T184213Z
LAST-MODIFIED:20241030T184241Z
UID:13894-1730246400-1733270399@marquettefood.coop
SUMMARY:NĀTIFS Field Day Sale
DESCRIPTION:While Thanksgiving is a day of celebration for many people\, it is a holiday marred by its colonialist past. Many Indigenous populations have been left struggling\, especially regarding cultural exchange of culinary practices and food security. \nSo\, from Oct. 30 to Dec. 3\, we will be partnering with North American Traditional Indigenous Food Systems and donating 5 cents of every Field Day purchase from our Co+op Deals. \nStop by the Co-op and see the historically low Field Day prices. Or\, start planning your shopping trip at home by reading our Sales and Specials. If you’re interested in doing more to support Indigenous peoples rights\, equality\, and economic stability\, visit naifs.org to learn more.
URL:https://marquettefood.coop/event/natifs-field-day/
LOCATION:Marquette Food Co-op\, 502 W. Washington\, Marquette\, MI\, 49855\, United States
CATEGORIES:Sale
END:VEVENT
BEGIN:VEVENT
DTSTART;VALUE=DATE:20241024
DTEND;VALUE=DATE:20241026
DTSTAMP:20260424T044002
CREATED:20241009T124318Z
LAST-MODIFIED:20241009T124318Z
UID:13811-1729728000-1729900799@marquettefood.coop
SUMMARY:Simchat Torah
DESCRIPTION:
URL:https://marquettefood.coop/event/simchat-torah/
LOCATION:MI
CATEGORIES:Events,Holiday
END:VEVENT
BEGIN:VEVENT
DTSTART;VALUE=DATE:20241023
DTEND;VALUE=DATE:20241026
DTSTAMP:20260424T044002
CREATED:20241009T124248Z
LAST-MODIFIED:20241009T124248Z
UID:13809-1729641600-1729900799@marquettefood.coop
SUMMARY:Shemini Atzeret
DESCRIPTION:
URL:https://marquettefood.coop/event/shemini-atzeret/
LOCATION:MI
CATEGORIES:Events,Holiday
END:VEVENT
BEGIN:VEVENT
DTSTART;VALUE=DATE:20241018
DTEND;VALUE=DATE:20241019
DTSTAMP:20260424T044002
CREATED:20241003T131418Z
LAST-MODIFIED:20241003T131418Z
UID:13752-1729209600-1729295999@marquettefood.coop
SUMMARY:Anniversary Party
DESCRIPTION:Join us at the Co-op on Friday\, October 18\, from 11am-1pm\, for a free piece of cake to celebrate 10 years at our 502 location. We will serve slices of carrot cake and vegan chocolate cake fresh from the Marquette Baking Co.
URL:https://marquettefood.coop/event/anniversary-party/
LOCATION:Marquette Food Co-op\, 502 W. Washington\, Marquette\, MI\, 49855\, United States
CATEGORIES:Events,Special Event
END:VEVENT
END:VCALENDAR