BEGIN:VCALENDAR
VERSION:2.0
PRODID:-//Marquette Food Co-op - ECPv6.11.2//NONSGML v1.0//EN
CALSCALE:GREGORIAN
METHOD:PUBLISH
X-ORIGINAL-URL:https://marquettefood.coop
X-WR-CALDESC:Events for Marquette Food Co-op
REFRESH-INTERVAL;VALUE=DURATION:PT1H
X-Robots-Tag:noindex
X-PUBLISHED-TTL:PT1H
BEGIN:VTIMEZONE
TZID:UTC
BEGIN:STANDARD
TZOFFSETFROM:+0000
TZOFFSETTO:+0000
TZNAME:UTC
DTSTART:20220101T000000
END:STANDARD
END:VTIMEZONE
BEGIN:VEVENT
DTSTART;VALUE=DATE:20220928
DTEND;VALUE=DATE:20221005
DTSTAMP:20260421T174527
CREATED:20220907T194714Z
LAST-MODIFIED:20220907T194746Z
UID:11351-1664323200-1664927999@marquettefood.coop
SUMMARY:Oktoberfest
DESCRIPTION:
URL:https://marquettefood.coop/event/world-peace-day/
LOCATION:MI
END:VEVENT
BEGIN:VEVENT
DTSTART;TZID=UTC:20221004T173000
DTEND;TZID=UTC:20221004T173000
DTSTAMP:20260421T174527
CREATED:20220909T151859Z
LAST-MODIFIED:20220909T153148Z
UID:11379-1664904600-1664904600@marquettefood.coop
SUMMARY:All About Eggs: Part 1
DESCRIPTION:Scrambled\, fried\, boiled\, and poached. These may be common egg cooking methods but they are not often executed in a way that makes them super delicious. This class is here to remedy that. Join Education Coordinator and Registered Dietitian Amanda Latvala to discover the secrets of transforming this humble ingredient into a delicious meal you will want to make for breakfast\, lunch\, and dinner. In addition to basic egg techniques\, Amanda will lead you through a traditional Caesar salad and\, crème brûlée for dessert!
URL:https://marquettefood.coop/event/all-about-eggs-part-1/
LOCATION:Marquette Food Co-op\, 502 W. Washington\, Marquette Township\, MI\, 49855\, United States
CATEGORIES:Cooking Class
END:VEVENT
BEGIN:VEVENT
DTSTART;VALUE=DATE:20221005
DTEND;VALUE=DATE:20221012
DTSTAMP:20260421T174527
CREATED:20221003T174137Z
LAST-MODIFIED:20221003T174137Z
UID:11483-1664928000-1665532799@marquettefood.coop
SUMMARY:Bulk Sale
DESCRIPTION:25% off select bulk items!
URL:https://marquettefood.coop/event/bulk-sale/
LOCATION:Marquette Food Co-op\, 502 W. Washington\, Marquette Township\, MI\, 49855\, United States
END:VEVENT
BEGIN:VEVENT
DTSTART;TZID=UTC:20221007T110000
DTEND;TZID=UTC:20221007T130000
DTSTAMP:20260421T174527
CREATED:20221003T175005Z
LAST-MODIFIED:20221003T175005Z
UID:11493-1665140400-1665147600@marquettefood.coop
SUMMARY:Sampling w/MFC Board
DESCRIPTION:
URL:https://marquettefood.coop/event/sampling-w-mfc-board/
LOCATION:Marquette Food Co-op\, 502 W. Washington\, Marquette Township\, MI\, 49855\, United States
END:VEVENT
BEGIN:VEVENT
DTSTART;TZID=UTC:20221012T180000
DTEND;TZID=UTC:20221012T180000
DTSTAMP:20260421T174527
CREATED:20220909T154956Z
LAST-MODIFIED:20220909T155104Z
UID:11398-1665597600-1665597600@marquettefood.coop
SUMMARY:Getting To Know Your Co-op
DESCRIPTION:Getting to Know Your Co-op classes are offered the second Wednesday of each month in our classroom\, located in the lower level of our Co-op. All are welcome and encouraged to attend this free class. The class includes an overview of our Co-op\, a comprehensive store tour\, samples\, and a Q&A period. Bring a friend too\, everyone who attends receives a $5 gift card!
URL:https://marquettefood.coop/event/getting-to-know-your-co-op/
LOCATION:Marquette Food Co-op\, 502 W. Washington\, Marquette Township\, MI\, 49855\, United States
CATEGORIES:Store Tour
END:VEVENT
BEGIN:VEVENT
DTSTART;VALUE=DATE:20221013
DTEND;VALUE=DATE:20221017
DTSTAMP:20260421T174527
CREATED:20221003T174258Z
LAST-MODIFIED:20221003T174258Z
UID:11485-1665619200-1665964799@marquettefood.coop
SUMMARY:Fresh Coast Film Fest
DESCRIPTION:
URL:https://marquettefood.coop/event/fresh-coast-film-fest/
LOCATION:MI
END:VEVENT
BEGIN:VEVENT
DTSTART;TZID=UTC:20221014T110000
DTEND;TZID=UTC:20221014T130000
DTSTAMP:20260421T174527
CREATED:20221003T175139Z
LAST-MODIFIED:20221003T175139Z
UID:11497-1665745200-1665752400@marquettefood.coop
SUMMARY:Sampling w/MFC Board
DESCRIPTION:
URL:https://marquettefood.coop/event/sampling-w-mfc-board-3/
LOCATION:Marquette Food Co-op\, 502 W. Washington\, Marquette Township\, MI\, 49855\, United States
END:VEVENT
BEGIN:VEVENT
DTSTART;TZID=UTC:20221015T080000
DTEND;TZID=UTC:20221015T170000
DTSTAMP:20260421T174527
CREATED:20221003T174420Z
LAST-MODIFIED:20221003T174420Z
UID:11487-1665820800-1665853200@marquettefood.coop
SUMMARY:Board Nomination Begins
DESCRIPTION:
URL:https://marquettefood.coop/event/board-nomination-begins/
LOCATION:MI
END:VEVENT
BEGIN:VEVENT
DTSTART;TZID=UTC:20221015T143000
DTEND;TZID=UTC:20221015T173000
DTSTAMP:20260421T174527
CREATED:20221003T175051Z
LAST-MODIFIED:20221003T175051Z
UID:11495-1665844200-1665855000@marquettefood.coop
SUMMARY:Sampling w/MFC Board
DESCRIPTION:
URL:https://marquettefood.coop/event/sampling-w-mfc-board-2/
LOCATION:Marquette Food Co-op\, 502 W. Washington\, Marquette Township\, MI\, 49855\, United States
END:VEVENT
BEGIN:VEVENT
DTSTART;TZID=UTC:20221020T160000
DTEND;TZID=UTC:20221020T160000
DTSTAMP:20260421T174527
CREATED:20220909T151956Z
LAST-MODIFIED:20220909T153214Z
UID:11381-1666281600-1666281600@marquettefood.coop
SUMMARY:Dinner with the Doctor: Making Healthy Behaviors Stick
DESCRIPTION:Join us at the Marquette Food Co-op for a meal and health discussion with doctors from the residency program at Upper Peninsula Health System. Each month you’ll learn about how diet choices impact your health – and how you can make that impact a positive one! The accompanying dinner will exemplify the topic covered that night\, and you’ll go home with the recipes to recreate the meal at home. \nDo you find yourself on the rollercoaster of behavior change? You decide to make changes in your life to be healthier\, but they are short lived\, and you find yourself back in your old ways. If you are looking for strategies to make healthy behaviors stick\, this is the class for you. Join Dr. Kristi Wegener\, MD where she will discuss the interplay between emotions and behaviors. You will learn to identify behaviors that you want to change\, be guided through the appropriate steps to make those changes\, and learn strategies to keep yourself accountable so the changes last a lifetime.
URL:https://marquettefood.coop/event/dinner-with-the-doctor-making-healthy-behaviors-stick-2/
LOCATION:Marquette Food Co-op\, 502 W. Washington\, Marquette Township\, MI\, 49855\, United States
CATEGORIES:Lecture
END:VEVENT
BEGIN:VEVENT
DTSTART;TZID=UTC:20221021T110000
DTEND;TZID=UTC:20221021T130000
DTSTAMP:20260421T174527
CREATED:20221003T175319Z
LAST-MODIFIED:20221003T175319Z
UID:11501-1666350000-1666357200@marquettefood.coop
SUMMARY:Sampling w/MFC Board
DESCRIPTION:
URL:https://marquettefood.coop/event/sampling-w-mfc-board-5/
LOCATION:Marquette Food Co-op\, 502 W. Washington\, Marquette Township\, MI\, 49855\, United States
END:VEVENT
BEGIN:VEVENT
DTSTART;TZID=UTC:20221021T140000
DTEND;TZID=UTC:20221021T180000
DTSTAMP:20260421T174527
CREATED:20221003T174647Z
LAST-MODIFIED:20221003T174647Z
UID:11489-1666360800-1666375200@marquettefood.coop
SUMMARY:Riojana Vendor Sampling
DESCRIPTION:J
URL:https://marquettefood.coop/event/riojana-vendor-sampling/
LOCATION:MI
CATEGORIES:Demonstration
END:VEVENT
BEGIN:VEVENT
DTSTART;TZID=UTC:20221022T143000
DTEND;TZID=UTC:20221022T173000
DTSTAMP:20260421T174527
CREATED:20221003T175219Z
LAST-MODIFIED:20221003T175219Z
UID:11499-1666449000-1666459800@marquettefood.coop
SUMMARY:Sampling w/MFC Board
DESCRIPTION:
URL:https://marquettefood.coop/event/sampling-w-mfc-board-4/
LOCATION:Marquette Food Co-op\, 502 W. Washington\, Marquette Township\, MI\, 49855\, United States
END:VEVENT
BEGIN:VEVENT
DTSTART;TZID=UTC:20221026T173000
DTEND;TZID=UTC:20221026T200000
DTSTAMP:20260421T174527
CREATED:20220909T152155Z
LAST-MODIFIED:20220909T152155Z
UID:11383-1666805400-1666814400@marquettefood.coop
SUMMARY:All About Eggs: Part 2
DESCRIPTION:Looking to build on your skills after Eggs Part One? Join us for Part Two\, where we’ll dive into some more complex ways to use eggs. If you’ve ever wondered about the difference between soft and firm peaks when whipping eggs\, struggled to keep custard from curdling\, or wanted to make a perfect meringue\, this class is for you. Attendance at Eggs Part One is not required to attend.
URL:https://marquettefood.coop/event/all-about-eggs-part-2/
LOCATION:MI
CATEGORIES:Cooking Class
END:VEVENT
BEGIN:VEVENT
DTSTART;TZID=UTC:20221028T110000
DTEND;TZID=UTC:20221028T130000
DTSTAMP:20260421T174527
CREATED:20221003T175416Z
LAST-MODIFIED:20221003T175416Z
UID:11503-1666954800-1666962000@marquettefood.coop
SUMMARY:Sampling w/MFC Board
DESCRIPTION:
URL:https://marquettefood.coop/event/sampling-w-mfc-board-6/
LOCATION:Marquette Food Co-op\, 502 W. Washington\, Marquette Township\, MI\, 49855\, United States
END:VEVENT
BEGIN:VEVENT
DTSTART;TZID=UTC:20221029T143000
DTEND;TZID=UTC:20221029T173000
DTSTAMP:20260421T174527
CREATED:20221003T175513Z
LAST-MODIFIED:20221003T175513Z
UID:11505-1667053800-1667064600@marquettefood.coop
SUMMARY:Sampling w/MFC Board
DESCRIPTION:
URL:https://marquettefood.coop/event/sampling-w-mfc-board-7/
LOCATION:Marquette Food Co-op\, 502 W. Washington\, Marquette Township\, MI\, 49855\, United States
END:VEVENT
BEGIN:VEVENT
DTSTART;TZID=UTC:20221029T160000
DTEND;TZID=UTC:20221029T190000
DTSTAMP:20260421T174527
CREATED:20221003T174744Z
LAST-MODIFIED:20221003T174744Z
UID:11491-1667059200-1667070000@marquettefood.coop
SUMMARY:Downtown Trick-or-Treating
DESCRIPTION:
URL:https://marquettefood.coop/event/downtown-trick-or-treating/
LOCATION:MI
END:VEVENT
END:VCALENDAR